BEGIN:VCALENDAR
VERSION:2.0
PRODID:-//Absolute Security - ECPv6.15.20//NONSGML v1.0//EN
CALSCALE:GREGORIAN
METHOD:PUBLISH
X-ORIGINAL-URL:https://absoluteisi.com
X-WR-CALDESC:Events for Absolute Security
REFRESH-INTERVAL;VALUE=DURATION:PT1H
X-Robots-Tag:noindex
X-PUBLISHED-TTL:PT1H
BEGIN:VTIMEZONE
TZID:America/New_York
BEGIN:DAYLIGHT
TZOFFSETFROM:-0500
TZOFFSETTO:-0400
TZNAME:EDT
DTSTART:20250309T070000
END:DAYLIGHT
BEGIN:STANDARD
TZOFFSETFROM:-0400
TZOFFSETTO:-0500
TZNAME:EST
DTSTART:20251102T060000
END:STANDARD
BEGIN:DAYLIGHT
TZOFFSETFROM:-0500
TZOFFSETTO:-0400
TZNAME:EDT
DTSTART:20260308T070000
END:DAYLIGHT
BEGIN:STANDARD
TZOFFSETFROM:-0400
TZOFFSETTO:-0500
TZNAME:EST
DTSTART:20261101T060000
END:STANDARD
BEGIN:DAYLIGHT
TZOFFSETFROM:-0500
TZOFFSETTO:-0400
TZNAME:EDT
DTSTART:20270314T070000
END:DAYLIGHT
BEGIN:STANDARD
TZOFFSETFROM:-0400
TZOFFSETTO:-0500
TZNAME:EST
DTSTART:20271107T060000
END:STANDARD
END:VTIMEZONE
BEGIN:VEVENT
DTSTART;TZID=America/New_York:20261006T093000
DTEND;TZID=America/New_York:20261006T163000
DTSTAMP:20260420T143000
CREATED:20250129T223727Z
LAST-MODIFIED:20250130T173213Z
UID:10000349-1791279000-1791304200@absoluteisi.com
SUMMARY:Security Guard Card 12 Hour Class Tuesday-Session
DESCRIPTION:Class runs on Tuesdays 9:30 – 4:30 and Wednesdays 9:30 – 2:30. \nClasses are held at our Essex location:  422 A Eastern Blvd\, Essex\, MD 21221 \nPlease call our Towson office at 410-828-6460 to register.
URL:https://absoluteisi.com/event/security-guard-12-hour-class-tuesday-session/2026-10-06/
LOCATION:Essex\, 422 A Eastern Blvd\, Essex\, MD\, 21221\, United States
CATEGORIES:Security Guard Card 12 Hour Class
END:VEVENT
BEGIN:VEVENT
DTSTART;TZID=America/New_York:20261007T093000
DTEND;TZID=America/New_York:20261007T143000
DTSTAMP:20260420T143000
CREATED:20250130T171407Z
LAST-MODIFIED:20250130T172308Z
UID:10002698-1791365400-1791383400@absoluteisi.com
SUMMARY:Security Guard Card 12 Hour Class Wednesday Session
DESCRIPTION:Class runs on Tuesdays 9:30 – 4:30 and Wednesdays 9:30 – 2:30. \nClasses are held at our Essex location:  422 A Eastern Blvd\, Essex\, MD 21221 \nPlease call our Towson office at 410-828-6460 to register.
URL:https://absoluteisi.com/event/security-guard-card-12-hour-class-wednesday-session/2026-10-07/
LOCATION:Essex\, 422 A Eastern Blvd\, Essex\, MD\, 21221\, United States
CATEGORIES:Security Guard Card 12 Hour Class
END:VEVENT
BEGIN:VEVENT
DTSTART;TZID=America/New_York:20261008T093000
DTEND;TZID=America/New_York:20261008T173000
DTSTAMP:20260420T143000
CREATED:20250129T225654Z
LAST-MODIFIED:20250130T132327Z
UID:10000873-1791451800-1791480600@absoluteisi.com
SUMMARY:Security Guard License Renewal 8 Hour Class
DESCRIPTION:The Security Guard License Renewal 8 Hour Class runs from 9:30 am – 5:30 pm. \nClasses are held at our Essex location:  422 A Eastern Blvd\, Essex\, MD 21221 \nPlease call our Towson office at 410-828-6460 to register.
URL:https://absoluteisi.com/event/security-guard-license-renewal-8-hour-class/2026-10-08/
LOCATION:Essex\, 422 A Eastern Blvd\, Essex\, MD\, 21221\, United States
END:VEVENT
BEGIN:VEVENT
DTSTART;TZID=America/New_York:20261013T093000
DTEND;TZID=America/New_York:20261013T163000
DTSTAMP:20260420T143000
CREATED:20250129T223727Z
LAST-MODIFIED:20250130T173213Z
UID:10000350-1791883800-1791909000@absoluteisi.com
SUMMARY:Security Guard Card 12 Hour Class Tuesday-Session
DESCRIPTION:Class runs on Tuesdays 9:30 – 4:30 and Wednesdays 9:30 – 2:30. \nClasses are held at our Essex location:  422 A Eastern Blvd\, Essex\, MD 21221 \nPlease call our Towson office at 410-828-6460 to register.
URL:https://absoluteisi.com/event/security-guard-12-hour-class-tuesday-session/2026-10-13/
LOCATION:Essex\, 422 A Eastern Blvd\, Essex\, MD\, 21221\, United States
CATEGORIES:Security Guard Card 12 Hour Class
END:VEVENT
BEGIN:VEVENT
DTSTART;TZID=America/New_York:20261014T093000
DTEND;TZID=America/New_York:20261014T143000
DTSTAMP:20260420T143000
CREATED:20250130T171407Z
LAST-MODIFIED:20250130T172308Z
UID:10002699-1791970200-1791988200@absoluteisi.com
SUMMARY:Security Guard Card 12 Hour Class Wednesday Session
DESCRIPTION:Class runs on Tuesdays 9:30 – 4:30 and Wednesdays 9:30 – 2:30. \nClasses are held at our Essex location:  422 A Eastern Blvd\, Essex\, MD 21221 \nPlease call our Towson office at 410-828-6460 to register.
URL:https://absoluteisi.com/event/security-guard-card-12-hour-class-wednesday-session/2026-10-14/
LOCATION:Essex\, 422 A Eastern Blvd\, Essex\, MD\, 21221\, United States
CATEGORIES:Security Guard Card 12 Hour Class
END:VEVENT
BEGIN:VEVENT
DTSTART;TZID=America/New_York:20261015T093000
DTEND;TZID=America/New_York:20261015T173000
DTSTAMP:20260420T143000
CREATED:20250129T225654Z
LAST-MODIFIED:20250130T132327Z
UID:10000874-1792056600-1792085400@absoluteisi.com
SUMMARY:Security Guard License Renewal 8 Hour Class
DESCRIPTION:The Security Guard License Renewal 8 Hour Class runs from 9:30 am – 5:30 pm. \nClasses are held at our Essex location:  422 A Eastern Blvd\, Essex\, MD 21221 \nPlease call our Towson office at 410-828-6460 to register.
URL:https://absoluteisi.com/event/security-guard-license-renewal-8-hour-class/2026-10-15/
LOCATION:Essex\, 422 A Eastern Blvd\, Essex\, MD\, 21221\, United States
END:VEVENT
BEGIN:VEVENT
DTSTART;TZID=America/New_York:20261020T093000
DTEND;TZID=America/New_York:20261020T163000
DTSTAMP:20260420T143000
CREATED:20250129T223727Z
LAST-MODIFIED:20250130T173213Z
UID:10000351-1792488600-1792513800@absoluteisi.com
SUMMARY:Security Guard Card 12 Hour Class Tuesday-Session
DESCRIPTION:Class runs on Tuesdays 9:30 – 4:30 and Wednesdays 9:30 – 2:30. \nClasses are held at our Essex location:  422 A Eastern Blvd\, Essex\, MD 21221 \nPlease call our Towson office at 410-828-6460 to register.
URL:https://absoluteisi.com/event/security-guard-12-hour-class-tuesday-session/2026-10-20/
LOCATION:Essex\, 422 A Eastern Blvd\, Essex\, MD\, 21221\, United States
CATEGORIES:Security Guard Card 12 Hour Class
END:VEVENT
BEGIN:VEVENT
DTSTART;TZID=America/New_York:20261021T093000
DTEND;TZID=America/New_York:20261021T143000
DTSTAMP:20260420T143000
CREATED:20250130T171407Z
LAST-MODIFIED:20250130T172308Z
UID:10002700-1792575000-1792593000@absoluteisi.com
SUMMARY:Security Guard Card 12 Hour Class Wednesday Session
DESCRIPTION:Class runs on Tuesdays 9:30 – 4:30 and Wednesdays 9:30 – 2:30. \nClasses are held at our Essex location:  422 A Eastern Blvd\, Essex\, MD 21221 \nPlease call our Towson office at 410-828-6460 to register.
URL:https://absoluteisi.com/event/security-guard-card-12-hour-class-wednesday-session/2026-10-21/
LOCATION:Essex\, 422 A Eastern Blvd\, Essex\, MD\, 21221\, United States
CATEGORIES:Security Guard Card 12 Hour Class
END:VEVENT
BEGIN:VEVENT
DTSTART;TZID=America/New_York:20261022T093000
DTEND;TZID=America/New_York:20261022T173000
DTSTAMP:20260420T143000
CREATED:20250129T225654Z
LAST-MODIFIED:20250130T132327Z
UID:10000875-1792661400-1792690200@absoluteisi.com
SUMMARY:Security Guard License Renewal 8 Hour Class
DESCRIPTION:The Security Guard License Renewal 8 Hour Class runs from 9:30 am – 5:30 pm. \nClasses are held at our Essex location:  422 A Eastern Blvd\, Essex\, MD 21221 \nPlease call our Towson office at 410-828-6460 to register.
URL:https://absoluteisi.com/event/security-guard-license-renewal-8-hour-class/2026-10-22/
LOCATION:Essex\, 422 A Eastern Blvd\, Essex\, MD\, 21221\, United States
END:VEVENT
BEGIN:VEVENT
DTSTART;TZID=America/New_York:20261027T093000
DTEND;TZID=America/New_York:20261027T163000
DTSTAMP:20260420T143000
CREATED:20250129T223727Z
LAST-MODIFIED:20250130T173213Z
UID:10000352-1793093400-1793118600@absoluteisi.com
SUMMARY:Security Guard Card 12 Hour Class Tuesday-Session
DESCRIPTION:Class runs on Tuesdays 9:30 – 4:30 and Wednesdays 9:30 – 2:30. \nClasses are held at our Essex location:  422 A Eastern Blvd\, Essex\, MD 21221 \nPlease call our Towson office at 410-828-6460 to register.
URL:https://absoluteisi.com/event/security-guard-12-hour-class-tuesday-session/2026-10-27/
LOCATION:Essex\, 422 A Eastern Blvd\, Essex\, MD\, 21221\, United States
CATEGORIES:Security Guard Card 12 Hour Class
END:VEVENT
BEGIN:VEVENT
DTSTART;TZID=America/New_York:20261028T093000
DTEND;TZID=America/New_York:20261028T143000
DTSTAMP:20260420T143000
CREATED:20250130T171407Z
LAST-MODIFIED:20250130T172308Z
UID:10002701-1793179800-1793197800@absoluteisi.com
SUMMARY:Security Guard Card 12 Hour Class Wednesday Session
DESCRIPTION:Class runs on Tuesdays 9:30 – 4:30 and Wednesdays 9:30 – 2:30. \nClasses are held at our Essex location:  422 A Eastern Blvd\, Essex\, MD 21221 \nPlease call our Towson office at 410-828-6460 to register.
URL:https://absoluteisi.com/event/security-guard-card-12-hour-class-wednesday-session/2026-10-28/
LOCATION:Essex\, 422 A Eastern Blvd\, Essex\, MD\, 21221\, United States
CATEGORIES:Security Guard Card 12 Hour Class
END:VEVENT
BEGIN:VEVENT
DTSTART;TZID=America/New_York:20261029T093000
DTEND;TZID=America/New_York:20261029T173000
DTSTAMP:20260420T143000
CREATED:20250129T225654Z
LAST-MODIFIED:20250130T132327Z
UID:10000876-1793266200-1793295000@absoluteisi.com
SUMMARY:Security Guard License Renewal 8 Hour Class
DESCRIPTION:The Security Guard License Renewal 8 Hour Class runs from 9:30 am – 5:30 pm. \nClasses are held at our Essex location:  422 A Eastern Blvd\, Essex\, MD 21221 \nPlease call our Towson office at 410-828-6460 to register.
URL:https://absoluteisi.com/event/security-guard-license-renewal-8-hour-class/2026-10-29/
LOCATION:Essex\, 422 A Eastern Blvd\, Essex\, MD\, 21221\, United States
END:VEVENT
BEGIN:VEVENT
DTSTART;TZID=America/New_York:20261103T093000
DTEND;TZID=America/New_York:20261103T163000
DTSTAMP:20260420T143000
CREATED:20250129T223727Z
LAST-MODIFIED:20250130T173213Z
UID:10000353-1793698200-1793723400@absoluteisi.com
SUMMARY:Security Guard Card 12 Hour Class Tuesday-Session
DESCRIPTION:Class runs on Tuesdays 9:30 – 4:30 and Wednesdays 9:30 – 2:30. \nClasses are held at our Essex location:  422 A Eastern Blvd\, Essex\, MD 21221 \nPlease call our Towson office at 410-828-6460 to register.
URL:https://absoluteisi.com/event/security-guard-12-hour-class-tuesday-session/2026-11-03/
LOCATION:Essex\, 422 A Eastern Blvd\, Essex\, MD\, 21221\, United States
CATEGORIES:Security Guard Card 12 Hour Class
END:VEVENT
BEGIN:VEVENT
DTSTART;TZID=America/New_York:20261104T093000
DTEND;TZID=America/New_York:20261104T143000
DTSTAMP:20260420T143000
CREATED:20250130T171407Z
LAST-MODIFIED:20250130T172308Z
UID:10002702-1793784600-1793802600@absoluteisi.com
SUMMARY:Security Guard Card 12 Hour Class Wednesday Session
DESCRIPTION:Class runs on Tuesdays 9:30 – 4:30 and Wednesdays 9:30 – 2:30. \nClasses are held at our Essex location:  422 A Eastern Blvd\, Essex\, MD 21221 \nPlease call our Towson office at 410-828-6460 to register.
URL:https://absoluteisi.com/event/security-guard-card-12-hour-class-wednesday-session/2026-11-04/
LOCATION:Essex\, 422 A Eastern Blvd\, Essex\, MD\, 21221\, United States
CATEGORIES:Security Guard Card 12 Hour Class
END:VEVENT
BEGIN:VEVENT
DTSTART;TZID=America/New_York:20261105T093000
DTEND;TZID=America/New_York:20261105T173000
DTSTAMP:20260420T143000
CREATED:20250129T225654Z
LAST-MODIFIED:20250130T132327Z
UID:10000877-1793871000-1793899800@absoluteisi.com
SUMMARY:Security Guard License Renewal 8 Hour Class
DESCRIPTION:The Security Guard License Renewal 8 Hour Class runs from 9:30 am – 5:30 pm. \nClasses are held at our Essex location:  422 A Eastern Blvd\, Essex\, MD 21221 \nPlease call our Towson office at 410-828-6460 to register.
URL:https://absoluteisi.com/event/security-guard-license-renewal-8-hour-class/2026-11-05/
LOCATION:Essex\, 422 A Eastern Blvd\, Essex\, MD\, 21221\, United States
END:VEVENT
BEGIN:VEVENT
DTSTART;TZID=America/New_York:20261110T093000
DTEND;TZID=America/New_York:20261110T163000
DTSTAMP:20260420T143000
CREATED:20250129T223727Z
LAST-MODIFIED:20250130T173213Z
UID:10000354-1794303000-1794328200@absoluteisi.com
SUMMARY:Security Guard Card 12 Hour Class Tuesday-Session
DESCRIPTION:Class runs on Tuesdays 9:30 – 4:30 and Wednesdays 9:30 – 2:30. \nClasses are held at our Essex location:  422 A Eastern Blvd\, Essex\, MD 21221 \nPlease call our Towson office at 410-828-6460 to register.
URL:https://absoluteisi.com/event/security-guard-12-hour-class-tuesday-session/2026-11-10/
LOCATION:Essex\, 422 A Eastern Blvd\, Essex\, MD\, 21221\, United States
CATEGORIES:Security Guard Card 12 Hour Class
END:VEVENT
BEGIN:VEVENT
DTSTART;TZID=America/New_York:20261111T093000
DTEND;TZID=America/New_York:20261111T143000
DTSTAMP:20260420T143000
CREATED:20250130T171407Z
LAST-MODIFIED:20250130T172308Z
UID:10002703-1794389400-1794407400@absoluteisi.com
SUMMARY:Security Guard Card 12 Hour Class Wednesday Session
DESCRIPTION:Class runs on Tuesdays 9:30 – 4:30 and Wednesdays 9:30 – 2:30. \nClasses are held at our Essex location:  422 A Eastern Blvd\, Essex\, MD 21221 \nPlease call our Towson office at 410-828-6460 to register.
URL:https://absoluteisi.com/event/security-guard-card-12-hour-class-wednesday-session/2026-11-11/
LOCATION:Essex\, 422 A Eastern Blvd\, Essex\, MD\, 21221\, United States
CATEGORIES:Security Guard Card 12 Hour Class
END:VEVENT
BEGIN:VEVENT
DTSTART;TZID=America/New_York:20261112T093000
DTEND;TZID=America/New_York:20261112T173000
DTSTAMP:20260420T143000
CREATED:20250129T225654Z
LAST-MODIFIED:20250130T132327Z
UID:10000878-1794475800-1794504600@absoluteisi.com
SUMMARY:Security Guard License Renewal 8 Hour Class
DESCRIPTION:The Security Guard License Renewal 8 Hour Class runs from 9:30 am – 5:30 pm. \nClasses are held at our Essex location:  422 A Eastern Blvd\, Essex\, MD 21221 \nPlease call our Towson office at 410-828-6460 to register.
URL:https://absoluteisi.com/event/security-guard-license-renewal-8-hour-class/2026-11-12/
LOCATION:Essex\, 422 A Eastern Blvd\, Essex\, MD\, 21221\, United States
END:VEVENT
BEGIN:VEVENT
DTSTART;TZID=America/New_York:20261117T093000
DTEND;TZID=America/New_York:20261117T163000
DTSTAMP:20260420T143000
CREATED:20250129T223727Z
LAST-MODIFIED:20250130T173213Z
UID:10000355-1794907800-1794933000@absoluteisi.com
SUMMARY:Security Guard Card 12 Hour Class Tuesday-Session
DESCRIPTION:Class runs on Tuesdays 9:30 – 4:30 and Wednesdays 9:30 – 2:30. \nClasses are held at our Essex location:  422 A Eastern Blvd\, Essex\, MD 21221 \nPlease call our Towson office at 410-828-6460 to register.
URL:https://absoluteisi.com/event/security-guard-12-hour-class-tuesday-session/2026-11-17/
LOCATION:Essex\, 422 A Eastern Blvd\, Essex\, MD\, 21221\, United States
CATEGORIES:Security Guard Card 12 Hour Class
END:VEVENT
BEGIN:VEVENT
DTSTART;TZID=America/New_York:20261118T093000
DTEND;TZID=America/New_York:20261118T143000
DTSTAMP:20260420T143000
CREATED:20250130T171407Z
LAST-MODIFIED:20250130T172308Z
UID:10002704-1794994200-1795012200@absoluteisi.com
SUMMARY:Security Guard Card 12 Hour Class Wednesday Session
DESCRIPTION:Class runs on Tuesdays 9:30 – 4:30 and Wednesdays 9:30 – 2:30. \nClasses are held at our Essex location:  422 A Eastern Blvd\, Essex\, MD 21221 \nPlease call our Towson office at 410-828-6460 to register.
URL:https://absoluteisi.com/event/security-guard-card-12-hour-class-wednesday-session/2026-11-18/
LOCATION:Essex\, 422 A Eastern Blvd\, Essex\, MD\, 21221\, United States
CATEGORIES:Security Guard Card 12 Hour Class
END:VEVENT
BEGIN:VEVENT
DTSTART;TZID=America/New_York:20261119T093000
DTEND;TZID=America/New_York:20261119T173000
DTSTAMP:20260420T143000
CREATED:20250129T225654Z
LAST-MODIFIED:20250130T132327Z
UID:10000879-1795080600-1795109400@absoluteisi.com
SUMMARY:Security Guard License Renewal 8 Hour Class
DESCRIPTION:The Security Guard License Renewal 8 Hour Class runs from 9:30 am – 5:30 pm. \nClasses are held at our Essex location:  422 A Eastern Blvd\, Essex\, MD 21221 \nPlease call our Towson office at 410-828-6460 to register.
URL:https://absoluteisi.com/event/security-guard-license-renewal-8-hour-class/2026-11-19/
LOCATION:Essex\, 422 A Eastern Blvd\, Essex\, MD\, 21221\, United States
END:VEVENT
BEGIN:VEVENT
DTSTART;TZID=America/New_York:20261124T093000
DTEND;TZID=America/New_York:20261124T163000
DTSTAMP:20260420T143000
CREATED:20250129T223727Z
LAST-MODIFIED:20250130T173213Z
UID:10000356-1795512600-1795537800@absoluteisi.com
SUMMARY:Security Guard Card 12 Hour Class Tuesday-Session
DESCRIPTION:Class runs on Tuesdays 9:30 – 4:30 and Wednesdays 9:30 – 2:30. \nClasses are held at our Essex location:  422 A Eastern Blvd\, Essex\, MD 21221 \nPlease call our Towson office at 410-828-6460 to register.
URL:https://absoluteisi.com/event/security-guard-12-hour-class-tuesday-session/2026-11-24/
LOCATION:Essex\, 422 A Eastern Blvd\, Essex\, MD\, 21221\, United States
CATEGORIES:Security Guard Card 12 Hour Class
END:VEVENT
BEGIN:VEVENT
DTSTART;TZID=America/New_York:20261125T093000
DTEND;TZID=America/New_York:20261125T143000
DTSTAMP:20260420T143000
CREATED:20250130T171407Z
LAST-MODIFIED:20250130T172308Z
UID:10002705-1795599000-1795617000@absoluteisi.com
SUMMARY:Security Guard Card 12 Hour Class Wednesday Session
DESCRIPTION:Class runs on Tuesdays 9:30 – 4:30 and Wednesdays 9:30 – 2:30. \nClasses are held at our Essex location:  422 A Eastern Blvd\, Essex\, MD 21221 \nPlease call our Towson office at 410-828-6460 to register.
URL:https://absoluteisi.com/event/security-guard-card-12-hour-class-wednesday-session/2026-11-25/
LOCATION:Essex\, 422 A Eastern Blvd\, Essex\, MD\, 21221\, United States
CATEGORIES:Security Guard Card 12 Hour Class
END:VEVENT
BEGIN:VEVENT
DTSTART;TZID=America/New_York:20261126T093000
DTEND;TZID=America/New_York:20261126T173000
DTSTAMP:20260420T143000
CREATED:20250129T225654Z
LAST-MODIFIED:20250130T132327Z
UID:10000880-1795685400-1795714200@absoluteisi.com
SUMMARY:Security Guard License Renewal 8 Hour Class
DESCRIPTION:The Security Guard License Renewal 8 Hour Class runs from 9:30 am – 5:30 pm. \nClasses are held at our Essex location:  422 A Eastern Blvd\, Essex\, MD 21221 \nPlease call our Towson office at 410-828-6460 to register.
URL:https://absoluteisi.com/event/security-guard-license-renewal-8-hour-class/2026-11-26/
LOCATION:Essex\, 422 A Eastern Blvd\, Essex\, MD\, 21221\, United States
END:VEVENT
BEGIN:VEVENT
DTSTART;TZID=America/New_York:20261201T093000
DTEND;TZID=America/New_York:20261201T163000
DTSTAMP:20260420T143000
CREATED:20250129T223727Z
LAST-MODIFIED:20250130T173213Z
UID:10000357-1796117400-1796142600@absoluteisi.com
SUMMARY:Security Guard Card 12 Hour Class Tuesday-Session
DESCRIPTION:Class runs on Tuesdays 9:30 – 4:30 and Wednesdays 9:30 – 2:30. \nClasses are held at our Essex location:  422 A Eastern Blvd\, Essex\, MD 21221 \nPlease call our Towson office at 410-828-6460 to register.
URL:https://absoluteisi.com/event/security-guard-12-hour-class-tuesday-session/2026-12-01/
LOCATION:Essex\, 422 A Eastern Blvd\, Essex\, MD\, 21221\, United States
CATEGORIES:Security Guard Card 12 Hour Class
END:VEVENT
BEGIN:VEVENT
DTSTART;TZID=America/New_York:20261202T093000
DTEND;TZID=America/New_York:20261202T143000
DTSTAMP:20260420T143000
CREATED:20250130T171407Z
LAST-MODIFIED:20250130T172308Z
UID:10002706-1796203800-1796221800@absoluteisi.com
SUMMARY:Security Guard Card 12 Hour Class Wednesday Session
DESCRIPTION:Class runs on Tuesdays 9:30 – 4:30 and Wednesdays 9:30 – 2:30. \nClasses are held at our Essex location:  422 A Eastern Blvd\, Essex\, MD 21221 \nPlease call our Towson office at 410-828-6460 to register.
URL:https://absoluteisi.com/event/security-guard-card-12-hour-class-wednesday-session/2026-12-02/
LOCATION:Essex\, 422 A Eastern Blvd\, Essex\, MD\, 21221\, United States
CATEGORIES:Security Guard Card 12 Hour Class
END:VEVENT
BEGIN:VEVENT
DTSTART;TZID=America/New_York:20261203T093000
DTEND;TZID=America/New_York:20261203T173000
DTSTAMP:20260420T143000
CREATED:20250129T225654Z
LAST-MODIFIED:20250130T132327Z
UID:10000881-1796290200-1796319000@absoluteisi.com
SUMMARY:Security Guard License Renewal 8 Hour Class
DESCRIPTION:The Security Guard License Renewal 8 Hour Class runs from 9:30 am – 5:30 pm. \nClasses are held at our Essex location:  422 A Eastern Blvd\, Essex\, MD 21221 \nPlease call our Towson office at 410-828-6460 to register.
URL:https://absoluteisi.com/event/security-guard-license-renewal-8-hour-class/2026-12-03/
LOCATION:Essex\, 422 A Eastern Blvd\, Essex\, MD\, 21221\, United States
END:VEVENT
BEGIN:VEVENT
DTSTART;TZID=America/New_York:20261208T093000
DTEND;TZID=America/New_York:20261208T163000
DTSTAMP:20260420T143000
CREATED:20250129T223727Z
LAST-MODIFIED:20250130T173213Z
UID:10000358-1796722200-1796747400@absoluteisi.com
SUMMARY:Security Guard Card 12 Hour Class Tuesday-Session
DESCRIPTION:Class runs on Tuesdays 9:30 – 4:30 and Wednesdays 9:30 – 2:30. \nClasses are held at our Essex location:  422 A Eastern Blvd\, Essex\, MD 21221 \nPlease call our Towson office at 410-828-6460 to register.
URL:https://absoluteisi.com/event/security-guard-12-hour-class-tuesday-session/2026-12-08/
LOCATION:Essex\, 422 A Eastern Blvd\, Essex\, MD\, 21221\, United States
CATEGORIES:Security Guard Card 12 Hour Class
END:VEVENT
BEGIN:VEVENT
DTSTART;TZID=America/New_York:20261209T093000
DTEND;TZID=America/New_York:20261209T143000
DTSTAMP:20260420T143000
CREATED:20250130T171407Z
LAST-MODIFIED:20250130T172308Z
UID:10002707-1796808600-1796826600@absoluteisi.com
SUMMARY:Security Guard Card 12 Hour Class Wednesday Session
DESCRIPTION:Class runs on Tuesdays 9:30 – 4:30 and Wednesdays 9:30 – 2:30. \nClasses are held at our Essex location:  422 A Eastern Blvd\, Essex\, MD 21221 \nPlease call our Towson office at 410-828-6460 to register.
URL:https://absoluteisi.com/event/security-guard-card-12-hour-class-wednesday-session/2026-12-09/
LOCATION:Essex\, 422 A Eastern Blvd\, Essex\, MD\, 21221\, United States
CATEGORIES:Security Guard Card 12 Hour Class
END:VEVENT
BEGIN:VEVENT
DTSTART;TZID=America/New_York:20261210T093000
DTEND;TZID=America/New_York:20261210T173000
DTSTAMP:20260420T143000
CREATED:20250129T225654Z
LAST-MODIFIED:20250130T132327Z
UID:10000882-1796895000-1796923800@absoluteisi.com
SUMMARY:Security Guard License Renewal 8 Hour Class
DESCRIPTION:The Security Guard License Renewal 8 Hour Class runs from 9:30 am – 5:30 pm. \nClasses are held at our Essex location:  422 A Eastern Blvd\, Essex\, MD 21221 \nPlease call our Towson office at 410-828-6460 to register.
URL:https://absoluteisi.com/event/security-guard-license-renewal-8-hour-class/2026-12-10/
LOCATION:Essex\, 422 A Eastern Blvd\, Essex\, MD\, 21221\, United States
END:VEVENT
END:VCALENDAR