BEGIN:VCALENDAR
VERSION:2.0
PRODID:-//Absolute Security - ECPv6.15.20//NONSGML v1.0//EN
CALSCALE:GREGORIAN
METHOD:PUBLISH
X-WR-CALNAME:Absolute Security
X-ORIGINAL-URL:https://absoluteisi.com
X-WR-CALDESC:Events for Absolute Security
REFRESH-INTERVAL;VALUE=DURATION:PT1H
X-Robots-Tag:noindex
X-PUBLISHED-TTL:PT1H
BEGIN:VTIMEZONE
TZID:America/New_York
BEGIN:DAYLIGHT
TZOFFSETFROM:-0500
TZOFFSETTO:-0400
TZNAME:EDT
DTSTART:20250309T070000
END:DAYLIGHT
BEGIN:STANDARD
TZOFFSETFROM:-0400
TZOFFSETTO:-0500
TZNAME:EST
DTSTART:20251102T060000
END:STANDARD
BEGIN:DAYLIGHT
TZOFFSETFROM:-0500
TZOFFSETTO:-0400
TZNAME:EDT
DTSTART:20260308T070000
END:DAYLIGHT
BEGIN:STANDARD
TZOFFSETFROM:-0400
TZOFFSETTO:-0500
TZNAME:EST
DTSTART:20261101T060000
END:STANDARD
BEGIN:DAYLIGHT
TZOFFSETFROM:-0500
TZOFFSETTO:-0400
TZNAME:EDT
DTSTART:20270314T070000
END:DAYLIGHT
BEGIN:STANDARD
TZOFFSETFROM:-0400
TZOFFSETTO:-0500
TZNAME:EST
DTSTART:20271107T060000
END:STANDARD
END:VTIMEZONE
BEGIN:VEVENT
DTSTART;TZID=America/New_York:20260714T093000
DTEND;TZID=America/New_York:20260714T163000
DTSTAMP:20260420T102135
CREATED:20250129T223727Z
LAST-MODIFIED:20250130T173213Z
UID:10000337-1784021400-1784046600@absoluteisi.com
SUMMARY:Security Guard Card 12 Hour Class Tuesday-Session
DESCRIPTION:Class runs on Tuesdays 9:30 – 4:30 and Wednesdays 9:30 – 2:30. \nClasses are held at our Essex location:  422 A Eastern Blvd\, Essex\, MD 21221 \nPlease call our Towson office at 410-828-6460 to register.
URL:https://absoluteisi.com/event/security-guard-12-hour-class-tuesday-session/2026-07-14/
LOCATION:Essex\, 422 A Eastern Blvd\, Essex\, MD\, 21221\, United States
CATEGORIES:Security Guard Card 12 Hour Class
END:VEVENT
BEGIN:VEVENT
DTSTART;TZID=America/New_York:20260715T093000
DTEND;TZID=America/New_York:20260715T143000
DTSTAMP:20260420T102135
CREATED:20250130T171407Z
LAST-MODIFIED:20250130T172308Z
UID:10002686-1784107800-1784125800@absoluteisi.com
SUMMARY:Security Guard Card 12 Hour Class Wednesday Session
DESCRIPTION:Class runs on Tuesdays 9:30 – 4:30 and Wednesdays 9:30 – 2:30. \nClasses are held at our Essex location:  422 A Eastern Blvd\, Essex\, MD 21221 \nPlease call our Towson office at 410-828-6460 to register.
URL:https://absoluteisi.com/event/security-guard-card-12-hour-class-wednesday-session/2026-07-15/
LOCATION:Essex\, 422 A Eastern Blvd\, Essex\, MD\, 21221\, United States
CATEGORIES:Security Guard Card 12 Hour Class
END:VEVENT
BEGIN:VEVENT
DTSTART;TZID=America/New_York:20260716T093000
DTEND;TZID=America/New_York:20260716T173000
DTSTAMP:20260420T102135
CREATED:20250129T225654Z
LAST-MODIFIED:20250130T132327Z
UID:10000861-1784194200-1784223000@absoluteisi.com
SUMMARY:Security Guard License Renewal 8 Hour Class
DESCRIPTION:The Security Guard License Renewal 8 Hour Class runs from 9:30 am – 5:30 pm. \nClasses are held at our Essex location:  422 A Eastern Blvd\, Essex\, MD 21221 \nPlease call our Towson office at 410-828-6460 to register.
URL:https://absoluteisi.com/event/security-guard-license-renewal-8-hour-class/2026-07-16/
LOCATION:Essex\, 422 A Eastern Blvd\, Essex\, MD\, 21221\, United States
END:VEVENT
BEGIN:VEVENT
DTSTART;TZID=America/New_York:20260721T093000
DTEND;TZID=America/New_York:20260721T163000
DTSTAMP:20260420T102135
CREATED:20250129T223727Z
LAST-MODIFIED:20250130T173213Z
UID:10000338-1784626200-1784651400@absoluteisi.com
SUMMARY:Security Guard Card 12 Hour Class Tuesday-Session
DESCRIPTION:Class runs on Tuesdays 9:30 – 4:30 and Wednesdays 9:30 – 2:30. \nClasses are held at our Essex location:  422 A Eastern Blvd\, Essex\, MD 21221 \nPlease call our Towson office at 410-828-6460 to register.
URL:https://absoluteisi.com/event/security-guard-12-hour-class-tuesday-session/2026-07-21/
LOCATION:Essex\, 422 A Eastern Blvd\, Essex\, MD\, 21221\, United States
CATEGORIES:Security Guard Card 12 Hour Class
END:VEVENT
BEGIN:VEVENT
DTSTART;TZID=America/New_York:20260722T093000
DTEND;TZID=America/New_York:20260722T143000
DTSTAMP:20260420T102135
CREATED:20250130T171407Z
LAST-MODIFIED:20250130T172308Z
UID:10002687-1784712600-1784730600@absoluteisi.com
SUMMARY:Security Guard Card 12 Hour Class Wednesday Session
DESCRIPTION:Class runs on Tuesdays 9:30 – 4:30 and Wednesdays 9:30 – 2:30. \nClasses are held at our Essex location:  422 A Eastern Blvd\, Essex\, MD 21221 \nPlease call our Towson office at 410-828-6460 to register.
URL:https://absoluteisi.com/event/security-guard-card-12-hour-class-wednesday-session/2026-07-22/
LOCATION:Essex\, 422 A Eastern Blvd\, Essex\, MD\, 21221\, United States
CATEGORIES:Security Guard Card 12 Hour Class
END:VEVENT
BEGIN:VEVENT
DTSTART;TZID=America/New_York:20260723T093000
DTEND;TZID=America/New_York:20260723T173000
DTSTAMP:20260420T102135
CREATED:20250129T225654Z
LAST-MODIFIED:20250130T132327Z
UID:10000862-1784799000-1784827800@absoluteisi.com
SUMMARY:Security Guard License Renewal 8 Hour Class
DESCRIPTION:The Security Guard License Renewal 8 Hour Class runs from 9:30 am – 5:30 pm. \nClasses are held at our Essex location:  422 A Eastern Blvd\, Essex\, MD 21221 \nPlease call our Towson office at 410-828-6460 to register.
URL:https://absoluteisi.com/event/security-guard-license-renewal-8-hour-class/2026-07-23/
LOCATION:Essex\, 422 A Eastern Blvd\, Essex\, MD\, 21221\, United States
END:VEVENT
BEGIN:VEVENT
DTSTART;TZID=America/New_York:20260728T093000
DTEND;TZID=America/New_York:20260728T163000
DTSTAMP:20260420T102135
CREATED:20250129T223727Z
LAST-MODIFIED:20250130T173213Z
UID:10000339-1785231000-1785256200@absoluteisi.com
SUMMARY:Security Guard Card 12 Hour Class Tuesday-Session
DESCRIPTION:Class runs on Tuesdays 9:30 – 4:30 and Wednesdays 9:30 – 2:30. \nClasses are held at our Essex location:  422 A Eastern Blvd\, Essex\, MD 21221 \nPlease call our Towson office at 410-828-6460 to register.
URL:https://absoluteisi.com/event/security-guard-12-hour-class-tuesday-session/2026-07-28/
LOCATION:Essex\, 422 A Eastern Blvd\, Essex\, MD\, 21221\, United States
CATEGORIES:Security Guard Card 12 Hour Class
END:VEVENT
BEGIN:VEVENT
DTSTART;TZID=America/New_York:20260729T093000
DTEND;TZID=America/New_York:20260729T143000
DTSTAMP:20260420T102135
CREATED:20250130T171407Z
LAST-MODIFIED:20250130T172308Z
UID:10002688-1785317400-1785335400@absoluteisi.com
SUMMARY:Security Guard Card 12 Hour Class Wednesday Session
DESCRIPTION:Class runs on Tuesdays 9:30 – 4:30 and Wednesdays 9:30 – 2:30. \nClasses are held at our Essex location:  422 A Eastern Blvd\, Essex\, MD 21221 \nPlease call our Towson office at 410-828-6460 to register.
URL:https://absoluteisi.com/event/security-guard-card-12-hour-class-wednesday-session/2026-07-29/
LOCATION:Essex\, 422 A Eastern Blvd\, Essex\, MD\, 21221\, United States
CATEGORIES:Security Guard Card 12 Hour Class
END:VEVENT
BEGIN:VEVENT
DTSTART;TZID=America/New_York:20260730T093000
DTEND;TZID=America/New_York:20260730T173000
DTSTAMP:20260420T102136
CREATED:20250129T225654Z
LAST-MODIFIED:20250130T132327Z
UID:10000863-1785403800-1785432600@absoluteisi.com
SUMMARY:Security Guard License Renewal 8 Hour Class
DESCRIPTION:The Security Guard License Renewal 8 Hour Class runs from 9:30 am – 5:30 pm. \nClasses are held at our Essex location:  422 A Eastern Blvd\, Essex\, MD 21221 \nPlease call our Towson office at 410-828-6460 to register.
URL:https://absoluteisi.com/event/security-guard-license-renewal-8-hour-class/2026-07-30/
LOCATION:Essex\, 422 A Eastern Blvd\, Essex\, MD\, 21221\, United States
END:VEVENT
BEGIN:VEVENT
DTSTART;TZID=America/New_York:20260804T093000
DTEND;TZID=America/New_York:20260804T163000
DTSTAMP:20260420T102136
CREATED:20250129T223727Z
LAST-MODIFIED:20250130T173213Z
UID:10000340-1785835800-1785861000@absoluteisi.com
SUMMARY:Security Guard Card 12 Hour Class Tuesday-Session
DESCRIPTION:Class runs on Tuesdays 9:30 – 4:30 and Wednesdays 9:30 – 2:30. \nClasses are held at our Essex location:  422 A Eastern Blvd\, Essex\, MD 21221 \nPlease call our Towson office at 410-828-6460 to register.
URL:https://absoluteisi.com/event/security-guard-12-hour-class-tuesday-session/2026-08-04/
LOCATION:Essex\, 422 A Eastern Blvd\, Essex\, MD\, 21221\, United States
CATEGORIES:Security Guard Card 12 Hour Class
END:VEVENT
BEGIN:VEVENT
DTSTART;TZID=America/New_York:20260805T093000
DTEND;TZID=America/New_York:20260805T143000
DTSTAMP:20260420T102136
CREATED:20250130T171407Z
LAST-MODIFIED:20250130T172308Z
UID:10002689-1785922200-1785940200@absoluteisi.com
SUMMARY:Security Guard Card 12 Hour Class Wednesday Session
DESCRIPTION:Class runs on Tuesdays 9:30 – 4:30 and Wednesdays 9:30 – 2:30. \nClasses are held at our Essex location:  422 A Eastern Blvd\, Essex\, MD 21221 \nPlease call our Towson office at 410-828-6460 to register.
URL:https://absoluteisi.com/event/security-guard-card-12-hour-class-wednesday-session/2026-08-05/
LOCATION:Essex\, 422 A Eastern Blvd\, Essex\, MD\, 21221\, United States
CATEGORIES:Security Guard Card 12 Hour Class
END:VEVENT
BEGIN:VEVENT
DTSTART;TZID=America/New_York:20260806T093000
DTEND;TZID=America/New_York:20260806T173000
DTSTAMP:20260420T102136
CREATED:20250129T225654Z
LAST-MODIFIED:20250130T132327Z
UID:10000864-1786008600-1786037400@absoluteisi.com
SUMMARY:Security Guard License Renewal 8 Hour Class
DESCRIPTION:The Security Guard License Renewal 8 Hour Class runs from 9:30 am – 5:30 pm. \nClasses are held at our Essex location:  422 A Eastern Blvd\, Essex\, MD 21221 \nPlease call our Towson office at 410-828-6460 to register.
URL:https://absoluteisi.com/event/security-guard-license-renewal-8-hour-class/2026-08-06/
LOCATION:Essex\, 422 A Eastern Blvd\, Essex\, MD\, 21221\, United States
END:VEVENT
BEGIN:VEVENT
DTSTART;TZID=America/New_York:20260811T093000
DTEND;TZID=America/New_York:20260811T163000
DTSTAMP:20260420T102136
CREATED:20250129T223727Z
LAST-MODIFIED:20250130T173213Z
UID:10000341-1786440600-1786465800@absoluteisi.com
SUMMARY:Security Guard Card 12 Hour Class Tuesday-Session
DESCRIPTION:Class runs on Tuesdays 9:30 – 4:30 and Wednesdays 9:30 – 2:30. \nClasses are held at our Essex location:  422 A Eastern Blvd\, Essex\, MD 21221 \nPlease call our Towson office at 410-828-6460 to register.
URL:https://absoluteisi.com/event/security-guard-12-hour-class-tuesday-session/2026-08-11/
LOCATION:Essex\, 422 A Eastern Blvd\, Essex\, MD\, 21221\, United States
CATEGORIES:Security Guard Card 12 Hour Class
END:VEVENT
BEGIN:VEVENT
DTSTART;TZID=America/New_York:20260812T093000
DTEND;TZID=America/New_York:20260812T143000
DTSTAMP:20260420T102136
CREATED:20250130T171407Z
LAST-MODIFIED:20250130T172308Z
UID:10002690-1786527000-1786545000@absoluteisi.com
SUMMARY:Security Guard Card 12 Hour Class Wednesday Session
DESCRIPTION:Class runs on Tuesdays 9:30 – 4:30 and Wednesdays 9:30 – 2:30. \nClasses are held at our Essex location:  422 A Eastern Blvd\, Essex\, MD 21221 \nPlease call our Towson office at 410-828-6460 to register.
URL:https://absoluteisi.com/event/security-guard-card-12-hour-class-wednesday-session/2026-08-12/
LOCATION:Essex\, 422 A Eastern Blvd\, Essex\, MD\, 21221\, United States
CATEGORIES:Security Guard Card 12 Hour Class
END:VEVENT
BEGIN:VEVENT
DTSTART;TZID=America/New_York:20260813T093000
DTEND;TZID=America/New_York:20260813T173000
DTSTAMP:20260420T102136
CREATED:20250129T225654Z
LAST-MODIFIED:20250130T132327Z
UID:10000865-1786613400-1786642200@absoluteisi.com
SUMMARY:Security Guard License Renewal 8 Hour Class
DESCRIPTION:The Security Guard License Renewal 8 Hour Class runs from 9:30 am – 5:30 pm. \nClasses are held at our Essex location:  422 A Eastern Blvd\, Essex\, MD 21221 \nPlease call our Towson office at 410-828-6460 to register.
URL:https://absoluteisi.com/event/security-guard-license-renewal-8-hour-class/2026-08-13/
LOCATION:Essex\, 422 A Eastern Blvd\, Essex\, MD\, 21221\, United States
END:VEVENT
BEGIN:VEVENT
DTSTART;TZID=America/New_York:20260818T093000
DTEND;TZID=America/New_York:20260818T163000
DTSTAMP:20260420T102136
CREATED:20250129T223727Z
LAST-MODIFIED:20250130T173213Z
UID:10000342-1787045400-1787070600@absoluteisi.com
SUMMARY:Security Guard Card 12 Hour Class Tuesday-Session
DESCRIPTION:Class runs on Tuesdays 9:30 – 4:30 and Wednesdays 9:30 – 2:30. \nClasses are held at our Essex location:  422 A Eastern Blvd\, Essex\, MD 21221 \nPlease call our Towson office at 410-828-6460 to register.
URL:https://absoluteisi.com/event/security-guard-12-hour-class-tuesday-session/2026-08-18/
LOCATION:Essex\, 422 A Eastern Blvd\, Essex\, MD\, 21221\, United States
CATEGORIES:Security Guard Card 12 Hour Class
END:VEVENT
BEGIN:VEVENT
DTSTART;TZID=America/New_York:20260819T093000
DTEND;TZID=America/New_York:20260819T143000
DTSTAMP:20260420T102136
CREATED:20250130T171407Z
LAST-MODIFIED:20250130T172308Z
UID:10002691-1787131800-1787149800@absoluteisi.com
SUMMARY:Security Guard Card 12 Hour Class Wednesday Session
DESCRIPTION:Class runs on Tuesdays 9:30 – 4:30 and Wednesdays 9:30 – 2:30. \nClasses are held at our Essex location:  422 A Eastern Blvd\, Essex\, MD 21221 \nPlease call our Towson office at 410-828-6460 to register.
URL:https://absoluteisi.com/event/security-guard-card-12-hour-class-wednesday-session/2026-08-19/
LOCATION:Essex\, 422 A Eastern Blvd\, Essex\, MD\, 21221\, United States
CATEGORIES:Security Guard Card 12 Hour Class
END:VEVENT
BEGIN:VEVENT
DTSTART;TZID=America/New_York:20260820T093000
DTEND;TZID=America/New_York:20260820T173000
DTSTAMP:20260420T102136
CREATED:20250129T225654Z
LAST-MODIFIED:20250130T132327Z
UID:10000866-1787218200-1787247000@absoluteisi.com
SUMMARY:Security Guard License Renewal 8 Hour Class
DESCRIPTION:The Security Guard License Renewal 8 Hour Class runs from 9:30 am – 5:30 pm. \nClasses are held at our Essex location:  422 A Eastern Blvd\, Essex\, MD 21221 \nPlease call our Towson office at 410-828-6460 to register.
URL:https://absoluteisi.com/event/security-guard-license-renewal-8-hour-class/2026-08-20/
LOCATION:Essex\, 422 A Eastern Blvd\, Essex\, MD\, 21221\, United States
END:VEVENT
BEGIN:VEVENT
DTSTART;TZID=America/New_York:20260825T093000
DTEND;TZID=America/New_York:20260825T163000
DTSTAMP:20260420T102136
CREATED:20250129T223727Z
LAST-MODIFIED:20250130T173213Z
UID:10000343-1787650200-1787675400@absoluteisi.com
SUMMARY:Security Guard Card 12 Hour Class Tuesday-Session
DESCRIPTION:Class runs on Tuesdays 9:30 – 4:30 and Wednesdays 9:30 – 2:30. \nClasses are held at our Essex location:  422 A Eastern Blvd\, Essex\, MD 21221 \nPlease call our Towson office at 410-828-6460 to register.
URL:https://absoluteisi.com/event/security-guard-12-hour-class-tuesday-session/2026-08-25/
LOCATION:Essex\, 422 A Eastern Blvd\, Essex\, MD\, 21221\, United States
CATEGORIES:Security Guard Card 12 Hour Class
END:VEVENT
BEGIN:VEVENT
DTSTART;TZID=America/New_York:20260826T093000
DTEND;TZID=America/New_York:20260826T143000
DTSTAMP:20260420T102136
CREATED:20250130T171407Z
LAST-MODIFIED:20250130T172308Z
UID:10002692-1787736600-1787754600@absoluteisi.com
SUMMARY:Security Guard Card 12 Hour Class Wednesday Session
DESCRIPTION:Class runs on Tuesdays 9:30 – 4:30 and Wednesdays 9:30 – 2:30. \nClasses are held at our Essex location:  422 A Eastern Blvd\, Essex\, MD 21221 \nPlease call our Towson office at 410-828-6460 to register.
URL:https://absoluteisi.com/event/security-guard-card-12-hour-class-wednesday-session/2026-08-26/
LOCATION:Essex\, 422 A Eastern Blvd\, Essex\, MD\, 21221\, United States
CATEGORIES:Security Guard Card 12 Hour Class
END:VEVENT
BEGIN:VEVENT
DTSTART;TZID=America/New_York:20260827T093000
DTEND;TZID=America/New_York:20260827T173000
DTSTAMP:20260420T102136
CREATED:20250129T225654Z
LAST-MODIFIED:20250130T132327Z
UID:10000867-1787823000-1787851800@absoluteisi.com
SUMMARY:Security Guard License Renewal 8 Hour Class
DESCRIPTION:The Security Guard License Renewal 8 Hour Class runs from 9:30 am – 5:30 pm. \nClasses are held at our Essex location:  422 A Eastern Blvd\, Essex\, MD 21221 \nPlease call our Towson office at 410-828-6460 to register.
URL:https://absoluteisi.com/event/security-guard-license-renewal-8-hour-class/2026-08-27/
LOCATION:Essex\, 422 A Eastern Blvd\, Essex\, MD\, 21221\, United States
END:VEVENT
BEGIN:VEVENT
DTSTART;TZID=America/New_York:20260901T093000
DTEND;TZID=America/New_York:20260901T163000
DTSTAMP:20260420T102136
CREATED:20250129T223727Z
LAST-MODIFIED:20250130T173213Z
UID:10000344-1788255000-1788280200@absoluteisi.com
SUMMARY:Security Guard Card 12 Hour Class Tuesday-Session
DESCRIPTION:Class runs on Tuesdays 9:30 – 4:30 and Wednesdays 9:30 – 2:30. \nClasses are held at our Essex location:  422 A Eastern Blvd\, Essex\, MD 21221 \nPlease call our Towson office at 410-828-6460 to register.
URL:https://absoluteisi.com/event/security-guard-12-hour-class-tuesday-session/2026-09-01/
LOCATION:Essex\, 422 A Eastern Blvd\, Essex\, MD\, 21221\, United States
CATEGORIES:Security Guard Card 12 Hour Class
END:VEVENT
BEGIN:VEVENT
DTSTART;TZID=America/New_York:20260902T093000
DTEND;TZID=America/New_York:20260902T143000
DTSTAMP:20260420T102136
CREATED:20250130T171407Z
LAST-MODIFIED:20250130T172308Z
UID:10002693-1788341400-1788359400@absoluteisi.com
SUMMARY:Security Guard Card 12 Hour Class Wednesday Session
DESCRIPTION:Class runs on Tuesdays 9:30 – 4:30 and Wednesdays 9:30 – 2:30. \nClasses are held at our Essex location:  422 A Eastern Blvd\, Essex\, MD 21221 \nPlease call our Towson office at 410-828-6460 to register.
URL:https://absoluteisi.com/event/security-guard-card-12-hour-class-wednesday-session/2026-09-02/
LOCATION:Essex\, 422 A Eastern Blvd\, Essex\, MD\, 21221\, United States
CATEGORIES:Security Guard Card 12 Hour Class
END:VEVENT
BEGIN:VEVENT
DTSTART;TZID=America/New_York:20260903T093000
DTEND;TZID=America/New_York:20260903T173000
DTSTAMP:20260420T102136
CREATED:20250129T225654Z
LAST-MODIFIED:20250130T132327Z
UID:10000868-1788427800-1788456600@absoluteisi.com
SUMMARY:Security Guard License Renewal 8 Hour Class
DESCRIPTION:The Security Guard License Renewal 8 Hour Class runs from 9:30 am – 5:30 pm. \nClasses are held at our Essex location:  422 A Eastern Blvd\, Essex\, MD 21221 \nPlease call our Towson office at 410-828-6460 to register.
URL:https://absoluteisi.com/event/security-guard-license-renewal-8-hour-class/2026-09-03/
LOCATION:Essex\, 422 A Eastern Blvd\, Essex\, MD\, 21221\, United States
END:VEVENT
BEGIN:VEVENT
DTSTART;TZID=America/New_York:20260908T093000
DTEND;TZID=America/New_York:20260908T163000
DTSTAMP:20260420T102136
CREATED:20250129T223727Z
LAST-MODIFIED:20250130T173213Z
UID:10000345-1788859800-1788885000@absoluteisi.com
SUMMARY:Security Guard Card 12 Hour Class Tuesday-Session
DESCRIPTION:Class runs on Tuesdays 9:30 – 4:30 and Wednesdays 9:30 – 2:30. \nClasses are held at our Essex location:  422 A Eastern Blvd\, Essex\, MD 21221 \nPlease call our Towson office at 410-828-6460 to register.
URL:https://absoluteisi.com/event/security-guard-12-hour-class-tuesday-session/2026-09-08/
LOCATION:Essex\, 422 A Eastern Blvd\, Essex\, MD\, 21221\, United States
CATEGORIES:Security Guard Card 12 Hour Class
END:VEVENT
BEGIN:VEVENT
DTSTART;TZID=America/New_York:20260909T093000
DTEND;TZID=America/New_York:20260909T143000
DTSTAMP:20260420T102136
CREATED:20250130T171407Z
LAST-MODIFIED:20250130T172308Z
UID:10002694-1788946200-1788964200@absoluteisi.com
SUMMARY:Security Guard Card 12 Hour Class Wednesday Session
DESCRIPTION:Class runs on Tuesdays 9:30 – 4:30 and Wednesdays 9:30 – 2:30. \nClasses are held at our Essex location:  422 A Eastern Blvd\, Essex\, MD 21221 \nPlease call our Towson office at 410-828-6460 to register.
URL:https://absoluteisi.com/event/security-guard-card-12-hour-class-wednesday-session/2026-09-09/
LOCATION:Essex\, 422 A Eastern Blvd\, Essex\, MD\, 21221\, United States
CATEGORIES:Security Guard Card 12 Hour Class
END:VEVENT
BEGIN:VEVENT
DTSTART;TZID=America/New_York:20260910T093000
DTEND;TZID=America/New_York:20260910T173000
DTSTAMP:20260420T102136
CREATED:20250129T225654Z
LAST-MODIFIED:20250130T132327Z
UID:10000869-1789032600-1789061400@absoluteisi.com
SUMMARY:Security Guard License Renewal 8 Hour Class
DESCRIPTION:The Security Guard License Renewal 8 Hour Class runs from 9:30 am – 5:30 pm. \nClasses are held at our Essex location:  422 A Eastern Blvd\, Essex\, MD 21221 \nPlease call our Towson office at 410-828-6460 to register.
URL:https://absoluteisi.com/event/security-guard-license-renewal-8-hour-class/2026-09-10/
LOCATION:Essex\, 422 A Eastern Blvd\, Essex\, MD\, 21221\, United States
END:VEVENT
BEGIN:VEVENT
DTSTART;TZID=America/New_York:20260915T093000
DTEND;TZID=America/New_York:20260915T163000
DTSTAMP:20260420T102136
CREATED:20250129T223727Z
LAST-MODIFIED:20250130T173213Z
UID:10000346-1789464600-1789489800@absoluteisi.com
SUMMARY:Security Guard Card 12 Hour Class Tuesday-Session
DESCRIPTION:Class runs on Tuesdays 9:30 – 4:30 and Wednesdays 9:30 – 2:30. \nClasses are held at our Essex location:  422 A Eastern Blvd\, Essex\, MD 21221 \nPlease call our Towson office at 410-828-6460 to register.
URL:https://absoluteisi.com/event/security-guard-12-hour-class-tuesday-session/2026-09-15/
LOCATION:Essex\, 422 A Eastern Blvd\, Essex\, MD\, 21221\, United States
CATEGORIES:Security Guard Card 12 Hour Class
END:VEVENT
BEGIN:VEVENT
DTSTART;TZID=America/New_York:20260916T093000
DTEND;TZID=America/New_York:20260916T143000
DTSTAMP:20260420T102136
CREATED:20250130T171407Z
LAST-MODIFIED:20250130T172308Z
UID:10002695-1789551000-1789569000@absoluteisi.com
SUMMARY:Security Guard Card 12 Hour Class Wednesday Session
DESCRIPTION:Class runs on Tuesdays 9:30 – 4:30 and Wednesdays 9:30 – 2:30. \nClasses are held at our Essex location:  422 A Eastern Blvd\, Essex\, MD 21221 \nPlease call our Towson office at 410-828-6460 to register.
URL:https://absoluteisi.com/event/security-guard-card-12-hour-class-wednesday-session/2026-09-16/
LOCATION:Essex\, 422 A Eastern Blvd\, Essex\, MD\, 21221\, United States
CATEGORIES:Security Guard Card 12 Hour Class
END:VEVENT
BEGIN:VEVENT
DTSTART;TZID=America/New_York:20260917T093000
DTEND;TZID=America/New_York:20260917T173000
DTSTAMP:20260420T102136
CREATED:20250129T225654Z
LAST-MODIFIED:20250130T132327Z
UID:10000870-1789637400-1789666200@absoluteisi.com
SUMMARY:Security Guard License Renewal 8 Hour Class
DESCRIPTION:The Security Guard License Renewal 8 Hour Class runs from 9:30 am – 5:30 pm. \nClasses are held at our Essex location:  422 A Eastern Blvd\, Essex\, MD 21221 \nPlease call our Towson office at 410-828-6460 to register.
URL:https://absoluteisi.com/event/security-guard-license-renewal-8-hour-class/2026-09-17/
LOCATION:Essex\, 422 A Eastern Blvd\, Essex\, MD\, 21221\, United States
END:VEVENT
END:VCALENDAR