BEGIN:VCALENDAR
VERSION:2.0
PRODID:-//Absolute Security - ECPv6.15.20//NONSGML v1.0//EN
CALSCALE:GREGORIAN
METHOD:PUBLISH
X-WR-CALNAME:Absolute Security
X-ORIGINAL-URL:https://absoluteisi.com
X-WR-CALDESC:Events for Absolute Security
REFRESH-INTERVAL;VALUE=DURATION:PT1H
X-Robots-Tag:noindex
X-PUBLISHED-TTL:PT1H
BEGIN:VTIMEZONE
TZID:America/New_York
BEGIN:DAYLIGHT
TZOFFSETFROM:-0500
TZOFFSETTO:-0400
TZNAME:EDT
DTSTART:20270314T070000
END:DAYLIGHT
BEGIN:STANDARD
TZOFFSETFROM:-0400
TZOFFSETTO:-0500
TZNAME:EST
DTSTART:20271107T060000
END:STANDARD
BEGIN:DAYLIGHT
TZOFFSETFROM:-0500
TZOFFSETTO:-0400
TZNAME:EDT
DTSTART:20280312T070000
END:DAYLIGHT
BEGIN:STANDARD
TZOFFSETFROM:-0400
TZOFFSETTO:-0500
TZNAME:EST
DTSTART:20281105T060000
END:STANDARD
BEGIN:DAYLIGHT
TZOFFSETFROM:-0500
TZOFFSETTO:-0400
TZNAME:EDT
DTSTART:20290311T070000
END:DAYLIGHT
BEGIN:STANDARD
TZOFFSETFROM:-0400
TZOFFSETTO:-0500
TZNAME:EST
DTSTART:20291104T060000
END:STANDARD
END:VTIMEZONE
BEGIN:VEVENT
DTSTART;TZID=America/New_York:20280126T093000
DTEND;TZID=America/New_York:20280126T143000
DTSTAMP:20260421T163020
CREATED:20250130T171407Z
LAST-MODIFIED:20250130T172308Z
UID:10002766-1832491800-1832509800@absoluteisi.com
SUMMARY:Security Guard Card 12 Hour Class Wednesday Session
DESCRIPTION:Class runs on Tuesdays 9:30 – 4:30 and Wednesdays 9:30 – 2:30. \nClasses are held at our Essex location:  422 A Eastern Blvd\, Essex\, MD 21221 \nPlease call our Towson office at 410-828-6460 to register.
URL:https://absoluteisi.com/event/security-guard-card-12-hour-class-wednesday-session/2028-01-26/
LOCATION:Essex\, 422 A Eastern Blvd\, Essex\, MD\, 21221\, United States
CATEGORIES:Security Guard Card 12 Hour Class
END:VEVENT
BEGIN:VEVENT
DTSTART;TZID=America/New_York:20280127T093000
DTEND;TZID=America/New_York:20280127T173000
DTSTAMP:20260421T163020
CREATED:20250129T225654Z
LAST-MODIFIED:20250130T132327Z
UID:10000941-1832578200-1832607000@absoluteisi.com
SUMMARY:Security Guard License Renewal 8 Hour Class
DESCRIPTION:The Security Guard License Renewal 8 Hour Class runs from 9:30 am – 5:30 pm. \nClasses are held at our Essex location:  422 A Eastern Blvd\, Essex\, MD 21221 \nPlease call our Towson office at 410-828-6460 to register.
URL:https://absoluteisi.com/event/security-guard-license-renewal-8-hour-class/2028-01-27/
LOCATION:Essex\, 422 A Eastern Blvd\, Essex\, MD\, 21221\, United States
END:VEVENT
BEGIN:VEVENT
DTSTART;TZID=America/New_York:20280201T093000
DTEND;TZID=America/New_York:20280201T163000
DTSTAMP:20260421T163020
CREATED:20250129T223727Z
LAST-MODIFIED:20250130T173213Z
UID:10000418-1833010200-1833035400@absoluteisi.com
SUMMARY:Security Guard Card 12 Hour Class Tuesday-Session
DESCRIPTION:Class runs on Tuesdays 9:30 – 4:30 and Wednesdays 9:30 – 2:30. \nClasses are held at our Essex location:  422 A Eastern Blvd\, Essex\, MD 21221 \nPlease call our Towson office at 410-828-6460 to register.
URL:https://absoluteisi.com/event/security-guard-12-hour-class-tuesday-session/2028-02-01/
LOCATION:Essex\, 422 A Eastern Blvd\, Essex\, MD\, 21221\, United States
CATEGORIES:Security Guard Card 12 Hour Class
END:VEVENT
BEGIN:VEVENT
DTSTART;TZID=America/New_York:20280202T093000
DTEND;TZID=America/New_York:20280202T143000
DTSTAMP:20260421T163020
CREATED:20250130T171407Z
LAST-MODIFIED:20250130T172308Z
UID:10002767-1833096600-1833114600@absoluteisi.com
SUMMARY:Security Guard Card 12 Hour Class Wednesday Session
DESCRIPTION:Class runs on Tuesdays 9:30 – 4:30 and Wednesdays 9:30 – 2:30. \nClasses are held at our Essex location:  422 A Eastern Blvd\, Essex\, MD 21221 \nPlease call our Towson office at 410-828-6460 to register.
URL:https://absoluteisi.com/event/security-guard-card-12-hour-class-wednesday-session/2028-02-02/
LOCATION:Essex\, 422 A Eastern Blvd\, Essex\, MD\, 21221\, United States
CATEGORIES:Security Guard Card 12 Hour Class
END:VEVENT
BEGIN:VEVENT
DTSTART;TZID=America/New_York:20280203T093000
DTEND;TZID=America/New_York:20280203T173000
DTSTAMP:20260421T163020
CREATED:20250129T225654Z
LAST-MODIFIED:20250130T132327Z
UID:10000942-1833183000-1833211800@absoluteisi.com
SUMMARY:Security Guard License Renewal 8 Hour Class
DESCRIPTION:The Security Guard License Renewal 8 Hour Class runs from 9:30 am – 5:30 pm. \nClasses are held at our Essex location:  422 A Eastern Blvd\, Essex\, MD 21221 \nPlease call our Towson office at 410-828-6460 to register.
URL:https://absoluteisi.com/event/security-guard-license-renewal-8-hour-class/2028-02-03/
LOCATION:Essex\, 422 A Eastern Blvd\, Essex\, MD\, 21221\, United States
END:VEVENT
BEGIN:VEVENT
DTSTART;TZID=America/New_York:20280208T093000
DTEND;TZID=America/New_York:20280208T163000
DTSTAMP:20260421T163020
CREATED:20250129T223727Z
LAST-MODIFIED:20250130T173213Z
UID:10000419-1833615000-1833640200@absoluteisi.com
SUMMARY:Security Guard Card 12 Hour Class Tuesday-Session
DESCRIPTION:Class runs on Tuesdays 9:30 – 4:30 and Wednesdays 9:30 – 2:30. \nClasses are held at our Essex location:  422 A Eastern Blvd\, Essex\, MD 21221 \nPlease call our Towson office at 410-828-6460 to register.
URL:https://absoluteisi.com/event/security-guard-12-hour-class-tuesday-session/2028-02-08/
LOCATION:Essex\, 422 A Eastern Blvd\, Essex\, MD\, 21221\, United States
CATEGORIES:Security Guard Card 12 Hour Class
END:VEVENT
BEGIN:VEVENT
DTSTART;TZID=America/New_York:20280209T093000
DTEND;TZID=America/New_York:20280209T143000
DTSTAMP:20260421T163020
CREATED:20250130T171407Z
LAST-MODIFIED:20250130T172308Z
UID:10002768-1833701400-1833719400@absoluteisi.com
SUMMARY:Security Guard Card 12 Hour Class Wednesday Session
DESCRIPTION:Class runs on Tuesdays 9:30 – 4:30 and Wednesdays 9:30 – 2:30. \nClasses are held at our Essex location:  422 A Eastern Blvd\, Essex\, MD 21221 \nPlease call our Towson office at 410-828-6460 to register.
URL:https://absoluteisi.com/event/security-guard-card-12-hour-class-wednesday-session/2028-02-09/
LOCATION:Essex\, 422 A Eastern Blvd\, Essex\, MD\, 21221\, United States
CATEGORIES:Security Guard Card 12 Hour Class
END:VEVENT
BEGIN:VEVENT
DTSTART;TZID=America/New_York:20280210T093000
DTEND;TZID=America/New_York:20280210T173000
DTSTAMP:20260421T163020
CREATED:20250129T225654Z
LAST-MODIFIED:20250130T132327Z
UID:10000943-1833787800-1833816600@absoluteisi.com
SUMMARY:Security Guard License Renewal 8 Hour Class
DESCRIPTION:The Security Guard License Renewal 8 Hour Class runs from 9:30 am – 5:30 pm. \nClasses are held at our Essex location:  422 A Eastern Blvd\, Essex\, MD 21221 \nPlease call our Towson office at 410-828-6460 to register.
URL:https://absoluteisi.com/event/security-guard-license-renewal-8-hour-class/2028-02-10/
LOCATION:Essex\, 422 A Eastern Blvd\, Essex\, MD\, 21221\, United States
END:VEVENT
BEGIN:VEVENT
DTSTART;TZID=America/New_York:20280215T093000
DTEND;TZID=America/New_York:20280215T163000
DTSTAMP:20260421T163020
CREATED:20250129T223727Z
LAST-MODIFIED:20250130T173213Z
UID:10000420-1834219800-1834245000@absoluteisi.com
SUMMARY:Security Guard Card 12 Hour Class Tuesday-Session
DESCRIPTION:Class runs on Tuesdays 9:30 – 4:30 and Wednesdays 9:30 – 2:30. \nClasses are held at our Essex location:  422 A Eastern Blvd\, Essex\, MD 21221 \nPlease call our Towson office at 410-828-6460 to register.
URL:https://absoluteisi.com/event/security-guard-12-hour-class-tuesday-session/2028-02-15/
LOCATION:Essex\, 422 A Eastern Blvd\, Essex\, MD\, 21221\, United States
CATEGORIES:Security Guard Card 12 Hour Class
END:VEVENT
BEGIN:VEVENT
DTSTART;TZID=America/New_York:20280216T093000
DTEND;TZID=America/New_York:20280216T143000
DTSTAMP:20260421T163020
CREATED:20250130T171407Z
LAST-MODIFIED:20250130T172308Z
UID:10002769-1834306200-1834324200@absoluteisi.com
SUMMARY:Security Guard Card 12 Hour Class Wednesday Session
DESCRIPTION:Class runs on Tuesdays 9:30 – 4:30 and Wednesdays 9:30 – 2:30. \nClasses are held at our Essex location:  422 A Eastern Blvd\, Essex\, MD 21221 \nPlease call our Towson office at 410-828-6460 to register.
URL:https://absoluteisi.com/event/security-guard-card-12-hour-class-wednesday-session/2028-02-16/
LOCATION:Essex\, 422 A Eastern Blvd\, Essex\, MD\, 21221\, United States
CATEGORIES:Security Guard Card 12 Hour Class
END:VEVENT
BEGIN:VEVENT
DTSTART;TZID=America/New_York:20280217T093000
DTEND;TZID=America/New_York:20280217T173000
DTSTAMP:20260421T163020
CREATED:20250129T225654Z
LAST-MODIFIED:20250130T132327Z
UID:10000944-1834392600-1834421400@absoluteisi.com
SUMMARY:Security Guard License Renewal 8 Hour Class
DESCRIPTION:The Security Guard License Renewal 8 Hour Class runs from 9:30 am – 5:30 pm. \nClasses are held at our Essex location:  422 A Eastern Blvd\, Essex\, MD 21221 \nPlease call our Towson office at 410-828-6460 to register.
URL:https://absoluteisi.com/event/security-guard-license-renewal-8-hour-class/2028-02-17/
LOCATION:Essex\, 422 A Eastern Blvd\, Essex\, MD\, 21221\, United States
END:VEVENT
BEGIN:VEVENT
DTSTART;TZID=America/New_York:20280222T093000
DTEND;TZID=America/New_York:20280222T163000
DTSTAMP:20260421T163020
CREATED:20250129T223727Z
LAST-MODIFIED:20250130T173213Z
UID:10000421-1834824600-1834849800@absoluteisi.com
SUMMARY:Security Guard Card 12 Hour Class Tuesday-Session
DESCRIPTION:Class runs on Tuesdays 9:30 – 4:30 and Wednesdays 9:30 – 2:30. \nClasses are held at our Essex location:  422 A Eastern Blvd\, Essex\, MD 21221 \nPlease call our Towson office at 410-828-6460 to register.
URL:https://absoluteisi.com/event/security-guard-12-hour-class-tuesday-session/2028-02-22/
LOCATION:Essex\, 422 A Eastern Blvd\, Essex\, MD\, 21221\, United States
CATEGORIES:Security Guard Card 12 Hour Class
END:VEVENT
BEGIN:VEVENT
DTSTART;TZID=America/New_York:20280223T093000
DTEND;TZID=America/New_York:20280223T143000
DTSTAMP:20260421T163020
CREATED:20250130T171407Z
LAST-MODIFIED:20250130T172308Z
UID:10002770-1834911000-1834929000@absoluteisi.com
SUMMARY:Security Guard Card 12 Hour Class Wednesday Session
DESCRIPTION:Class runs on Tuesdays 9:30 – 4:30 and Wednesdays 9:30 – 2:30. \nClasses are held at our Essex location:  422 A Eastern Blvd\, Essex\, MD 21221 \nPlease call our Towson office at 410-828-6460 to register.
URL:https://absoluteisi.com/event/security-guard-card-12-hour-class-wednesday-session/2028-02-23/
LOCATION:Essex\, 422 A Eastern Blvd\, Essex\, MD\, 21221\, United States
CATEGORIES:Security Guard Card 12 Hour Class
END:VEVENT
BEGIN:VEVENT
DTSTART;TZID=America/New_York:20280224T093000
DTEND;TZID=America/New_York:20280224T173000
DTSTAMP:20260421T163020
CREATED:20250129T225654Z
LAST-MODIFIED:20250130T132327Z
UID:10000945-1834997400-1835026200@absoluteisi.com
SUMMARY:Security Guard License Renewal 8 Hour Class
DESCRIPTION:The Security Guard License Renewal 8 Hour Class runs from 9:30 am – 5:30 pm. \nClasses are held at our Essex location:  422 A Eastern Blvd\, Essex\, MD 21221 \nPlease call our Towson office at 410-828-6460 to register.
URL:https://absoluteisi.com/event/security-guard-license-renewal-8-hour-class/2028-02-24/
LOCATION:Essex\, 422 A Eastern Blvd\, Essex\, MD\, 21221\, United States
END:VEVENT
BEGIN:VEVENT
DTSTART;TZID=America/New_York:20280229T093000
DTEND;TZID=America/New_York:20280229T163000
DTSTAMP:20260421T163020
CREATED:20250129T223727Z
LAST-MODIFIED:20250130T173213Z
UID:10000422-1835429400-1835454600@absoluteisi.com
SUMMARY:Security Guard Card 12 Hour Class Tuesday-Session
DESCRIPTION:Class runs on Tuesdays 9:30 – 4:30 and Wednesdays 9:30 – 2:30. \nClasses are held at our Essex location:  422 A Eastern Blvd\, Essex\, MD 21221 \nPlease call our Towson office at 410-828-6460 to register.
URL:https://absoluteisi.com/event/security-guard-12-hour-class-tuesday-session/2028-02-29/
LOCATION:Essex\, 422 A Eastern Blvd\, Essex\, MD\, 21221\, United States
CATEGORIES:Security Guard Card 12 Hour Class
END:VEVENT
BEGIN:VEVENT
DTSTART;TZID=America/New_York:20280301T093000
DTEND;TZID=America/New_York:20280301T143000
DTSTAMP:20260421T163020
CREATED:20250130T171407Z
LAST-MODIFIED:20250130T172308Z
UID:10002771-1835515800-1835533800@absoluteisi.com
SUMMARY:Security Guard Card 12 Hour Class Wednesday Session
DESCRIPTION:Class runs on Tuesdays 9:30 – 4:30 and Wednesdays 9:30 – 2:30. \nClasses are held at our Essex location:  422 A Eastern Blvd\, Essex\, MD 21221 \nPlease call our Towson office at 410-828-6460 to register.
URL:https://absoluteisi.com/event/security-guard-card-12-hour-class-wednesday-session/2028-03-01/
LOCATION:Essex\, 422 A Eastern Blvd\, Essex\, MD\, 21221\, United States
CATEGORIES:Security Guard Card 12 Hour Class
END:VEVENT
BEGIN:VEVENT
DTSTART;TZID=America/New_York:20280302T093000
DTEND;TZID=America/New_York:20280302T173000
DTSTAMP:20260421T163020
CREATED:20250129T225654Z
LAST-MODIFIED:20250130T132327Z
UID:10000946-1835602200-1835631000@absoluteisi.com
SUMMARY:Security Guard License Renewal 8 Hour Class
DESCRIPTION:The Security Guard License Renewal 8 Hour Class runs from 9:30 am – 5:30 pm. \nClasses are held at our Essex location:  422 A Eastern Blvd\, Essex\, MD 21221 \nPlease call our Towson office at 410-828-6460 to register.
URL:https://absoluteisi.com/event/security-guard-license-renewal-8-hour-class/2028-03-02/
LOCATION:Essex\, 422 A Eastern Blvd\, Essex\, MD\, 21221\, United States
END:VEVENT
BEGIN:VEVENT
DTSTART;TZID=America/New_York:20280307T093000
DTEND;TZID=America/New_York:20280307T163000
DTSTAMP:20260421T163020
CREATED:20250129T223727Z
LAST-MODIFIED:20250130T173213Z
UID:10000423-1836034200-1836059400@absoluteisi.com
SUMMARY:Security Guard Card 12 Hour Class Tuesday-Session
DESCRIPTION:Class runs on Tuesdays 9:30 – 4:30 and Wednesdays 9:30 – 2:30. \nClasses are held at our Essex location:  422 A Eastern Blvd\, Essex\, MD 21221 \nPlease call our Towson office at 410-828-6460 to register.
URL:https://absoluteisi.com/event/security-guard-12-hour-class-tuesday-session/2028-03-07/
LOCATION:Essex\, 422 A Eastern Blvd\, Essex\, MD\, 21221\, United States
CATEGORIES:Security Guard Card 12 Hour Class
END:VEVENT
BEGIN:VEVENT
DTSTART;TZID=America/New_York:20280308T093000
DTEND;TZID=America/New_York:20280308T143000
DTSTAMP:20260421T163020
CREATED:20250130T171407Z
LAST-MODIFIED:20250130T172308Z
UID:10002772-1836120600-1836138600@absoluteisi.com
SUMMARY:Security Guard Card 12 Hour Class Wednesday Session
DESCRIPTION:Class runs on Tuesdays 9:30 – 4:30 and Wednesdays 9:30 – 2:30. \nClasses are held at our Essex location:  422 A Eastern Blvd\, Essex\, MD 21221 \nPlease call our Towson office at 410-828-6460 to register.
URL:https://absoluteisi.com/event/security-guard-card-12-hour-class-wednesday-session/2028-03-08/
LOCATION:Essex\, 422 A Eastern Blvd\, Essex\, MD\, 21221\, United States
CATEGORIES:Security Guard Card 12 Hour Class
END:VEVENT
BEGIN:VEVENT
DTSTART;TZID=America/New_York:20280309T093000
DTEND;TZID=America/New_York:20280309T173000
DTSTAMP:20260421T163020
CREATED:20250129T225654Z
LAST-MODIFIED:20250130T132327Z
UID:10000947-1836207000-1836235800@absoluteisi.com
SUMMARY:Security Guard License Renewal 8 Hour Class
DESCRIPTION:The Security Guard License Renewal 8 Hour Class runs from 9:30 am – 5:30 pm. \nClasses are held at our Essex location:  422 A Eastern Blvd\, Essex\, MD 21221 \nPlease call our Towson office at 410-828-6460 to register.
URL:https://absoluteisi.com/event/security-guard-license-renewal-8-hour-class/2028-03-09/
LOCATION:Essex\, 422 A Eastern Blvd\, Essex\, MD\, 21221\, United States
END:VEVENT
BEGIN:VEVENT
DTSTART;TZID=America/New_York:20280314T093000
DTEND;TZID=America/New_York:20280314T163000
DTSTAMP:20260421T163020
CREATED:20250129T223727Z
LAST-MODIFIED:20250130T173213Z
UID:10000424-1836639000-1836664200@absoluteisi.com
SUMMARY:Security Guard Card 12 Hour Class Tuesday-Session
DESCRIPTION:Class runs on Tuesdays 9:30 – 4:30 and Wednesdays 9:30 – 2:30. \nClasses are held at our Essex location:  422 A Eastern Blvd\, Essex\, MD 21221 \nPlease call our Towson office at 410-828-6460 to register.
URL:https://absoluteisi.com/event/security-guard-12-hour-class-tuesday-session/2028-03-14/
LOCATION:Essex\, 422 A Eastern Blvd\, Essex\, MD\, 21221\, United States
CATEGORIES:Security Guard Card 12 Hour Class
END:VEVENT
BEGIN:VEVENT
DTSTART;TZID=America/New_York:20280315T093000
DTEND;TZID=America/New_York:20280315T143000
DTSTAMP:20260421T163021
CREATED:20250130T171407Z
LAST-MODIFIED:20250130T172308Z
UID:10002773-1836725400-1836743400@absoluteisi.com
SUMMARY:Security Guard Card 12 Hour Class Wednesday Session
DESCRIPTION:Class runs on Tuesdays 9:30 – 4:30 and Wednesdays 9:30 – 2:30. \nClasses are held at our Essex location:  422 A Eastern Blvd\, Essex\, MD 21221 \nPlease call our Towson office at 410-828-6460 to register.
URL:https://absoluteisi.com/event/security-guard-card-12-hour-class-wednesday-session/2028-03-15/
LOCATION:Essex\, 422 A Eastern Blvd\, Essex\, MD\, 21221\, United States
CATEGORIES:Security Guard Card 12 Hour Class
END:VEVENT
BEGIN:VEVENT
DTSTART;TZID=America/New_York:20280316T093000
DTEND;TZID=America/New_York:20280316T173000
DTSTAMP:20260421T163021
CREATED:20250129T225654Z
LAST-MODIFIED:20250130T132327Z
UID:10000948-1836811800-1836840600@absoluteisi.com
SUMMARY:Security Guard License Renewal 8 Hour Class
DESCRIPTION:The Security Guard License Renewal 8 Hour Class runs from 9:30 am – 5:30 pm. \nClasses are held at our Essex location:  422 A Eastern Blvd\, Essex\, MD 21221 \nPlease call our Towson office at 410-828-6460 to register.
URL:https://absoluteisi.com/event/security-guard-license-renewal-8-hour-class/2028-03-16/
LOCATION:Essex\, 422 A Eastern Blvd\, Essex\, MD\, 21221\, United States
END:VEVENT
BEGIN:VEVENT
DTSTART;TZID=America/New_York:20280321T093000
DTEND;TZID=America/New_York:20280321T163000
DTSTAMP:20260421T163021
CREATED:20250129T223727Z
LAST-MODIFIED:20250130T173213Z
UID:10000425-1837243800-1837269000@absoluteisi.com
SUMMARY:Security Guard Card 12 Hour Class Tuesday-Session
DESCRIPTION:Class runs on Tuesdays 9:30 – 4:30 and Wednesdays 9:30 – 2:30. \nClasses are held at our Essex location:  422 A Eastern Blvd\, Essex\, MD 21221 \nPlease call our Towson office at 410-828-6460 to register.
URL:https://absoluteisi.com/event/security-guard-12-hour-class-tuesday-session/2028-03-21/
LOCATION:Essex\, 422 A Eastern Blvd\, Essex\, MD\, 21221\, United States
CATEGORIES:Security Guard Card 12 Hour Class
END:VEVENT
BEGIN:VEVENT
DTSTART;TZID=America/New_York:20280322T093000
DTEND;TZID=America/New_York:20280322T143000
DTSTAMP:20260421T163021
CREATED:20250130T171407Z
LAST-MODIFIED:20250130T172308Z
UID:10002774-1837330200-1837348200@absoluteisi.com
SUMMARY:Security Guard Card 12 Hour Class Wednesday Session
DESCRIPTION:Class runs on Tuesdays 9:30 – 4:30 and Wednesdays 9:30 – 2:30. \nClasses are held at our Essex location:  422 A Eastern Blvd\, Essex\, MD 21221 \nPlease call our Towson office at 410-828-6460 to register.
URL:https://absoluteisi.com/event/security-guard-card-12-hour-class-wednesday-session/2028-03-22/
LOCATION:Essex\, 422 A Eastern Blvd\, Essex\, MD\, 21221\, United States
CATEGORIES:Security Guard Card 12 Hour Class
END:VEVENT
BEGIN:VEVENT
DTSTART;TZID=America/New_York:20280323T093000
DTEND;TZID=America/New_York:20280323T173000
DTSTAMP:20260421T163021
CREATED:20250129T225654Z
LAST-MODIFIED:20250130T132327Z
UID:10000949-1837416600-1837445400@absoluteisi.com
SUMMARY:Security Guard License Renewal 8 Hour Class
DESCRIPTION:The Security Guard License Renewal 8 Hour Class runs from 9:30 am – 5:30 pm. \nClasses are held at our Essex location:  422 A Eastern Blvd\, Essex\, MD 21221 \nPlease call our Towson office at 410-828-6460 to register.
URL:https://absoluteisi.com/event/security-guard-license-renewal-8-hour-class/2028-03-23/
LOCATION:Essex\, 422 A Eastern Blvd\, Essex\, MD\, 21221\, United States
END:VEVENT
BEGIN:VEVENT
DTSTART;TZID=America/New_York:20280328T093000
DTEND;TZID=America/New_York:20280328T163000
DTSTAMP:20260421T163021
CREATED:20250129T223727Z
LAST-MODIFIED:20250130T173213Z
UID:10000426-1837848600-1837873800@absoluteisi.com
SUMMARY:Security Guard Card 12 Hour Class Tuesday-Session
DESCRIPTION:Class runs on Tuesdays 9:30 – 4:30 and Wednesdays 9:30 – 2:30. \nClasses are held at our Essex location:  422 A Eastern Blvd\, Essex\, MD 21221 \nPlease call our Towson office at 410-828-6460 to register.
URL:https://absoluteisi.com/event/security-guard-12-hour-class-tuesday-session/2028-03-28/
LOCATION:Essex\, 422 A Eastern Blvd\, Essex\, MD\, 21221\, United States
CATEGORIES:Security Guard Card 12 Hour Class
END:VEVENT
BEGIN:VEVENT
DTSTART;TZID=America/New_York:20280329T093000
DTEND;TZID=America/New_York:20280329T143000
DTSTAMP:20260421T163021
CREATED:20250130T171407Z
LAST-MODIFIED:20250130T172308Z
UID:10002775-1837935000-1837953000@absoluteisi.com
SUMMARY:Security Guard Card 12 Hour Class Wednesday Session
DESCRIPTION:Class runs on Tuesdays 9:30 – 4:30 and Wednesdays 9:30 – 2:30. \nClasses are held at our Essex location:  422 A Eastern Blvd\, Essex\, MD 21221 \nPlease call our Towson office at 410-828-6460 to register.
URL:https://absoluteisi.com/event/security-guard-card-12-hour-class-wednesday-session/2028-03-29/
LOCATION:Essex\, 422 A Eastern Blvd\, Essex\, MD\, 21221\, United States
CATEGORIES:Security Guard Card 12 Hour Class
END:VEVENT
BEGIN:VEVENT
DTSTART;TZID=America/New_York:20280330T093000
DTEND;TZID=America/New_York:20280330T173000
DTSTAMP:20260421T163021
CREATED:20250129T225654Z
LAST-MODIFIED:20250130T132327Z
UID:10000950-1838021400-1838050200@absoluteisi.com
SUMMARY:Security Guard License Renewal 8 Hour Class
DESCRIPTION:The Security Guard License Renewal 8 Hour Class runs from 9:30 am – 5:30 pm. \nClasses are held at our Essex location:  422 A Eastern Blvd\, Essex\, MD 21221 \nPlease call our Towson office at 410-828-6460 to register.
URL:https://absoluteisi.com/event/security-guard-license-renewal-8-hour-class/2028-03-30/
LOCATION:Essex\, 422 A Eastern Blvd\, Essex\, MD\, 21221\, United States
END:VEVENT
BEGIN:VEVENT
DTSTART;TZID=America/New_York:20280404T093000
DTEND;TZID=America/New_York:20280404T163000
DTSTAMP:20260421T163021
CREATED:20250129T223727Z
LAST-MODIFIED:20250130T173213Z
UID:10000427-1838453400-1838478600@absoluteisi.com
SUMMARY:Security Guard Card 12 Hour Class Tuesday-Session
DESCRIPTION:Class runs on Tuesdays 9:30 – 4:30 and Wednesdays 9:30 – 2:30. \nClasses are held at our Essex location:  422 A Eastern Blvd\, Essex\, MD 21221 \nPlease call our Towson office at 410-828-6460 to register.
URL:https://absoluteisi.com/event/security-guard-12-hour-class-tuesday-session/2028-04-04/
LOCATION:Essex\, 422 A Eastern Blvd\, Essex\, MD\, 21221\, United States
CATEGORIES:Security Guard Card 12 Hour Class
END:VEVENT
END:VCALENDAR