BEGIN:VCALENDAR
VERSION:2.0
PRODID:-//Absolute Security - ECPv6.15.20//NONSGML v1.0//EN
CALSCALE:GREGORIAN
METHOD:PUBLISH
X-WR-CALNAME:Absolute Security
X-ORIGINAL-URL:https://absoluteisi.com
X-WR-CALDESC:Events for Absolute Security
REFRESH-INTERVAL;VALUE=DURATION:PT1H
X-Robots-Tag:noindex
X-PUBLISHED-TTL:PT1H
BEGIN:VTIMEZONE
TZID:America/New_York
BEGIN:DAYLIGHT
TZOFFSETFROM:-0500
TZOFFSETTO:-0400
TZNAME:EDT
DTSTART:20260308T070000
END:DAYLIGHT
BEGIN:STANDARD
TZOFFSETFROM:-0400
TZOFFSETTO:-0500
TZNAME:EST
DTSTART:20261101T060000
END:STANDARD
BEGIN:DAYLIGHT
TZOFFSETFROM:-0500
TZOFFSETTO:-0400
TZNAME:EDT
DTSTART:20270314T070000
END:DAYLIGHT
BEGIN:STANDARD
TZOFFSETFROM:-0400
TZOFFSETTO:-0500
TZNAME:EST
DTSTART:20271107T060000
END:STANDARD
BEGIN:DAYLIGHT
TZOFFSETFROM:-0500
TZOFFSETTO:-0400
TZNAME:EDT
DTSTART:20280312T070000
END:DAYLIGHT
BEGIN:STANDARD
TZOFFSETFROM:-0400
TZOFFSETTO:-0500
TZNAME:EST
DTSTART:20281105T060000
END:STANDARD
END:VTIMEZONE
BEGIN:VEVENT
DTSTART;TZID=America/New_York:20270810T093000
DTEND;TZID=America/New_York:20270810T163000
DTSTAMP:20260421T082934
CREATED:20250129T223727Z
LAST-MODIFIED:20250130T173213Z
UID:10000393-1817890200-1817915400@absoluteisi.com
SUMMARY:Security Guard Card 12 Hour Class Tuesday-Session
DESCRIPTION:Class runs on Tuesdays 9:30 – 4:30 and Wednesdays 9:30 – 2:30. \nClasses are held at our Essex location:  422 A Eastern Blvd\, Essex\, MD 21221 \nPlease call our Towson office at 410-828-6460 to register.
URL:https://absoluteisi.com/event/security-guard-12-hour-class-tuesday-session/2027-08-10/
LOCATION:Essex\, 422 A Eastern Blvd\, Essex\, MD\, 21221\, United States
CATEGORIES:Security Guard Card 12 Hour Class
END:VEVENT
BEGIN:VEVENT
DTSTART;TZID=America/New_York:20270811T093000
DTEND;TZID=America/New_York:20270811T143000
DTSTAMP:20260421T082934
CREATED:20250130T171407Z
LAST-MODIFIED:20250130T172308Z
UID:10002742-1817976600-1817994600@absoluteisi.com
SUMMARY:Security Guard Card 12 Hour Class Wednesday Session
DESCRIPTION:Class runs on Tuesdays 9:30 – 4:30 and Wednesdays 9:30 – 2:30. \nClasses are held at our Essex location:  422 A Eastern Blvd\, Essex\, MD 21221 \nPlease call our Towson office at 410-828-6460 to register.
URL:https://absoluteisi.com/event/security-guard-card-12-hour-class-wednesday-session/2027-08-11/
LOCATION:Essex\, 422 A Eastern Blvd\, Essex\, MD\, 21221\, United States
CATEGORIES:Security Guard Card 12 Hour Class
END:VEVENT
BEGIN:VEVENT
DTSTART;TZID=America/New_York:20270812T093000
DTEND;TZID=America/New_York:20270812T173000
DTSTAMP:20260421T082934
CREATED:20250129T225654Z
LAST-MODIFIED:20250130T132327Z
UID:10000917-1818063000-1818091800@absoluteisi.com
SUMMARY:Security Guard License Renewal 8 Hour Class
DESCRIPTION:The Security Guard License Renewal 8 Hour Class runs from 9:30 am – 5:30 pm. \nClasses are held at our Essex location:  422 A Eastern Blvd\, Essex\, MD 21221 \nPlease call our Towson office at 410-828-6460 to register.
URL:https://absoluteisi.com/event/security-guard-license-renewal-8-hour-class/2027-08-12/
LOCATION:Essex\, 422 A Eastern Blvd\, Essex\, MD\, 21221\, United States
END:VEVENT
BEGIN:VEVENT
DTSTART;TZID=America/New_York:20270817T093000
DTEND;TZID=America/New_York:20270817T163000
DTSTAMP:20260421T082934
CREATED:20250129T223727Z
LAST-MODIFIED:20250130T173213Z
UID:10000394-1818495000-1818520200@absoluteisi.com
SUMMARY:Security Guard Card 12 Hour Class Tuesday-Session
DESCRIPTION:Class runs on Tuesdays 9:30 – 4:30 and Wednesdays 9:30 – 2:30. \nClasses are held at our Essex location:  422 A Eastern Blvd\, Essex\, MD 21221 \nPlease call our Towson office at 410-828-6460 to register.
URL:https://absoluteisi.com/event/security-guard-12-hour-class-tuesday-session/2027-08-17/
LOCATION:Essex\, 422 A Eastern Blvd\, Essex\, MD\, 21221\, United States
CATEGORIES:Security Guard Card 12 Hour Class
END:VEVENT
BEGIN:VEVENT
DTSTART;TZID=America/New_York:20270818T093000
DTEND;TZID=America/New_York:20270818T143000
DTSTAMP:20260421T082934
CREATED:20250130T171407Z
LAST-MODIFIED:20250130T172308Z
UID:10002743-1818581400-1818599400@absoluteisi.com
SUMMARY:Security Guard Card 12 Hour Class Wednesday Session
DESCRIPTION:Class runs on Tuesdays 9:30 – 4:30 and Wednesdays 9:30 – 2:30. \nClasses are held at our Essex location:  422 A Eastern Blvd\, Essex\, MD 21221 \nPlease call our Towson office at 410-828-6460 to register.
URL:https://absoluteisi.com/event/security-guard-card-12-hour-class-wednesday-session/2027-08-18/
LOCATION:Essex\, 422 A Eastern Blvd\, Essex\, MD\, 21221\, United States
CATEGORIES:Security Guard Card 12 Hour Class
END:VEVENT
BEGIN:VEVENT
DTSTART;TZID=America/New_York:20270819T093000
DTEND;TZID=America/New_York:20270819T173000
DTSTAMP:20260421T082934
CREATED:20250129T225654Z
LAST-MODIFIED:20250130T132327Z
UID:10000918-1818667800-1818696600@absoluteisi.com
SUMMARY:Security Guard License Renewal 8 Hour Class
DESCRIPTION:The Security Guard License Renewal 8 Hour Class runs from 9:30 am – 5:30 pm. \nClasses are held at our Essex location:  422 A Eastern Blvd\, Essex\, MD 21221 \nPlease call our Towson office at 410-828-6460 to register.
URL:https://absoluteisi.com/event/security-guard-license-renewal-8-hour-class/2027-08-19/
LOCATION:Essex\, 422 A Eastern Blvd\, Essex\, MD\, 21221\, United States
END:VEVENT
BEGIN:VEVENT
DTSTART;TZID=America/New_York:20270824T093000
DTEND;TZID=America/New_York:20270824T163000
DTSTAMP:20260421T082934
CREATED:20250129T223727Z
LAST-MODIFIED:20250130T173213Z
UID:10000395-1819099800-1819125000@absoluteisi.com
SUMMARY:Security Guard Card 12 Hour Class Tuesday-Session
DESCRIPTION:Class runs on Tuesdays 9:30 – 4:30 and Wednesdays 9:30 – 2:30. \nClasses are held at our Essex location:  422 A Eastern Blvd\, Essex\, MD 21221 \nPlease call our Towson office at 410-828-6460 to register.
URL:https://absoluteisi.com/event/security-guard-12-hour-class-tuesday-session/2027-08-24/
LOCATION:Essex\, 422 A Eastern Blvd\, Essex\, MD\, 21221\, United States
CATEGORIES:Security Guard Card 12 Hour Class
END:VEVENT
BEGIN:VEVENT
DTSTART;TZID=America/New_York:20270825T093000
DTEND;TZID=America/New_York:20270825T143000
DTSTAMP:20260421T082934
CREATED:20250130T171407Z
LAST-MODIFIED:20250130T172308Z
UID:10002744-1819186200-1819204200@absoluteisi.com
SUMMARY:Security Guard Card 12 Hour Class Wednesday Session
DESCRIPTION:Class runs on Tuesdays 9:30 – 4:30 and Wednesdays 9:30 – 2:30. \nClasses are held at our Essex location:  422 A Eastern Blvd\, Essex\, MD 21221 \nPlease call our Towson office at 410-828-6460 to register.
URL:https://absoluteisi.com/event/security-guard-card-12-hour-class-wednesday-session/2027-08-25/
LOCATION:Essex\, 422 A Eastern Blvd\, Essex\, MD\, 21221\, United States
CATEGORIES:Security Guard Card 12 Hour Class
END:VEVENT
BEGIN:VEVENT
DTSTART;TZID=America/New_York:20270826T093000
DTEND;TZID=America/New_York:20270826T173000
DTSTAMP:20260421T082934
CREATED:20250129T225654Z
LAST-MODIFIED:20250130T132327Z
UID:10000919-1819272600-1819301400@absoluteisi.com
SUMMARY:Security Guard License Renewal 8 Hour Class
DESCRIPTION:The Security Guard License Renewal 8 Hour Class runs from 9:30 am – 5:30 pm. \nClasses are held at our Essex location:  422 A Eastern Blvd\, Essex\, MD 21221 \nPlease call our Towson office at 410-828-6460 to register.
URL:https://absoluteisi.com/event/security-guard-license-renewal-8-hour-class/2027-08-26/
LOCATION:Essex\, 422 A Eastern Blvd\, Essex\, MD\, 21221\, United States
END:VEVENT
BEGIN:VEVENT
DTSTART;TZID=America/New_York:20270831T093000
DTEND;TZID=America/New_York:20270831T163000
DTSTAMP:20260421T082934
CREATED:20250129T223727Z
LAST-MODIFIED:20250130T173213Z
UID:10000396-1819704600-1819729800@absoluteisi.com
SUMMARY:Security Guard Card 12 Hour Class Tuesday-Session
DESCRIPTION:Class runs on Tuesdays 9:30 – 4:30 and Wednesdays 9:30 – 2:30. \nClasses are held at our Essex location:  422 A Eastern Blvd\, Essex\, MD 21221 \nPlease call our Towson office at 410-828-6460 to register.
URL:https://absoluteisi.com/event/security-guard-12-hour-class-tuesday-session/2027-08-31/
LOCATION:Essex\, 422 A Eastern Blvd\, Essex\, MD\, 21221\, United States
CATEGORIES:Security Guard Card 12 Hour Class
END:VEVENT
BEGIN:VEVENT
DTSTART;TZID=America/New_York:20270901T093000
DTEND;TZID=America/New_York:20270901T143000
DTSTAMP:20260421T082934
CREATED:20250130T171407Z
LAST-MODIFIED:20250130T172308Z
UID:10002745-1819791000-1819809000@absoluteisi.com
SUMMARY:Security Guard Card 12 Hour Class Wednesday Session
DESCRIPTION:Class runs on Tuesdays 9:30 – 4:30 and Wednesdays 9:30 – 2:30. \nClasses are held at our Essex location:  422 A Eastern Blvd\, Essex\, MD 21221 \nPlease call our Towson office at 410-828-6460 to register.
URL:https://absoluteisi.com/event/security-guard-card-12-hour-class-wednesday-session/2027-09-01/
LOCATION:Essex\, 422 A Eastern Blvd\, Essex\, MD\, 21221\, United States
CATEGORIES:Security Guard Card 12 Hour Class
END:VEVENT
BEGIN:VEVENT
DTSTART;TZID=America/New_York:20270902T093000
DTEND;TZID=America/New_York:20270902T173000
DTSTAMP:20260421T082934
CREATED:20250129T225654Z
LAST-MODIFIED:20250130T132327Z
UID:10000920-1819877400-1819906200@absoluteisi.com
SUMMARY:Security Guard License Renewal 8 Hour Class
DESCRIPTION:The Security Guard License Renewal 8 Hour Class runs from 9:30 am – 5:30 pm. \nClasses are held at our Essex location:  422 A Eastern Blvd\, Essex\, MD 21221 \nPlease call our Towson office at 410-828-6460 to register.
URL:https://absoluteisi.com/event/security-guard-license-renewal-8-hour-class/2027-09-02/
LOCATION:Essex\, 422 A Eastern Blvd\, Essex\, MD\, 21221\, United States
END:VEVENT
BEGIN:VEVENT
DTSTART;TZID=America/New_York:20270907T093000
DTEND;TZID=America/New_York:20270907T163000
DTSTAMP:20260421T082934
CREATED:20250129T223727Z
LAST-MODIFIED:20250130T173213Z
UID:10000397-1820309400-1820334600@absoluteisi.com
SUMMARY:Security Guard Card 12 Hour Class Tuesday-Session
DESCRIPTION:Class runs on Tuesdays 9:30 – 4:30 and Wednesdays 9:30 – 2:30. \nClasses are held at our Essex location:  422 A Eastern Blvd\, Essex\, MD 21221 \nPlease call our Towson office at 410-828-6460 to register.
URL:https://absoluteisi.com/event/security-guard-12-hour-class-tuesday-session/2027-09-07/
LOCATION:Essex\, 422 A Eastern Blvd\, Essex\, MD\, 21221\, United States
CATEGORIES:Security Guard Card 12 Hour Class
END:VEVENT
BEGIN:VEVENT
DTSTART;TZID=America/New_York:20270908T093000
DTEND;TZID=America/New_York:20270908T143000
DTSTAMP:20260421T082934
CREATED:20250130T171407Z
LAST-MODIFIED:20250130T172308Z
UID:10002746-1820395800-1820413800@absoluteisi.com
SUMMARY:Security Guard Card 12 Hour Class Wednesday Session
DESCRIPTION:Class runs on Tuesdays 9:30 – 4:30 and Wednesdays 9:30 – 2:30. \nClasses are held at our Essex location:  422 A Eastern Blvd\, Essex\, MD 21221 \nPlease call our Towson office at 410-828-6460 to register.
URL:https://absoluteisi.com/event/security-guard-card-12-hour-class-wednesday-session/2027-09-08/
LOCATION:Essex\, 422 A Eastern Blvd\, Essex\, MD\, 21221\, United States
CATEGORIES:Security Guard Card 12 Hour Class
END:VEVENT
BEGIN:VEVENT
DTSTART;TZID=America/New_York:20270909T093000
DTEND;TZID=America/New_York:20270909T173000
DTSTAMP:20260421T082934
CREATED:20250129T225654Z
LAST-MODIFIED:20250130T132327Z
UID:10000921-1820482200-1820511000@absoluteisi.com
SUMMARY:Security Guard License Renewal 8 Hour Class
DESCRIPTION:The Security Guard License Renewal 8 Hour Class runs from 9:30 am – 5:30 pm. \nClasses are held at our Essex location:  422 A Eastern Blvd\, Essex\, MD 21221 \nPlease call our Towson office at 410-828-6460 to register.
URL:https://absoluteisi.com/event/security-guard-license-renewal-8-hour-class/2027-09-09/
LOCATION:Essex\, 422 A Eastern Blvd\, Essex\, MD\, 21221\, United States
END:VEVENT
BEGIN:VEVENT
DTSTART;TZID=America/New_York:20270914T093000
DTEND;TZID=America/New_York:20270914T163000
DTSTAMP:20260421T082934
CREATED:20250129T223727Z
LAST-MODIFIED:20250130T173213Z
UID:10000398-1820914200-1820939400@absoluteisi.com
SUMMARY:Security Guard Card 12 Hour Class Tuesday-Session
DESCRIPTION:Class runs on Tuesdays 9:30 – 4:30 and Wednesdays 9:30 – 2:30. \nClasses are held at our Essex location:  422 A Eastern Blvd\, Essex\, MD 21221 \nPlease call our Towson office at 410-828-6460 to register.
URL:https://absoluteisi.com/event/security-guard-12-hour-class-tuesday-session/2027-09-14/
LOCATION:Essex\, 422 A Eastern Blvd\, Essex\, MD\, 21221\, United States
CATEGORIES:Security Guard Card 12 Hour Class
END:VEVENT
BEGIN:VEVENT
DTSTART;TZID=America/New_York:20270915T093000
DTEND;TZID=America/New_York:20270915T143000
DTSTAMP:20260421T082934
CREATED:20250130T171407Z
LAST-MODIFIED:20250130T172308Z
UID:10002747-1821000600-1821018600@absoluteisi.com
SUMMARY:Security Guard Card 12 Hour Class Wednesday Session
DESCRIPTION:Class runs on Tuesdays 9:30 – 4:30 and Wednesdays 9:30 – 2:30. \nClasses are held at our Essex location:  422 A Eastern Blvd\, Essex\, MD 21221 \nPlease call our Towson office at 410-828-6460 to register.
URL:https://absoluteisi.com/event/security-guard-card-12-hour-class-wednesday-session/2027-09-15/
LOCATION:Essex\, 422 A Eastern Blvd\, Essex\, MD\, 21221\, United States
CATEGORIES:Security Guard Card 12 Hour Class
END:VEVENT
BEGIN:VEVENT
DTSTART;TZID=America/New_York:20270916T093000
DTEND;TZID=America/New_York:20270916T173000
DTSTAMP:20260421T082934
CREATED:20250129T225654Z
LAST-MODIFIED:20250130T132327Z
UID:10000922-1821087000-1821115800@absoluteisi.com
SUMMARY:Security Guard License Renewal 8 Hour Class
DESCRIPTION:The Security Guard License Renewal 8 Hour Class runs from 9:30 am – 5:30 pm. \nClasses are held at our Essex location:  422 A Eastern Blvd\, Essex\, MD 21221 \nPlease call our Towson office at 410-828-6460 to register.
URL:https://absoluteisi.com/event/security-guard-license-renewal-8-hour-class/2027-09-16/
LOCATION:Essex\, 422 A Eastern Blvd\, Essex\, MD\, 21221\, United States
END:VEVENT
BEGIN:VEVENT
DTSTART;TZID=America/New_York:20270921T093000
DTEND;TZID=America/New_York:20270921T163000
DTSTAMP:20260421T082934
CREATED:20250129T223727Z
LAST-MODIFIED:20250130T173213Z
UID:10000399-1821519000-1821544200@absoluteisi.com
SUMMARY:Security Guard Card 12 Hour Class Tuesday-Session
DESCRIPTION:Class runs on Tuesdays 9:30 – 4:30 and Wednesdays 9:30 – 2:30. \nClasses are held at our Essex location:  422 A Eastern Blvd\, Essex\, MD 21221 \nPlease call our Towson office at 410-828-6460 to register.
URL:https://absoluteisi.com/event/security-guard-12-hour-class-tuesday-session/2027-09-21/
LOCATION:Essex\, 422 A Eastern Blvd\, Essex\, MD\, 21221\, United States
CATEGORIES:Security Guard Card 12 Hour Class
END:VEVENT
BEGIN:VEVENT
DTSTART;TZID=America/New_York:20270922T093000
DTEND;TZID=America/New_York:20270922T143000
DTSTAMP:20260421T082934
CREATED:20250130T171407Z
LAST-MODIFIED:20250130T172308Z
UID:10002748-1821605400-1821623400@absoluteisi.com
SUMMARY:Security Guard Card 12 Hour Class Wednesday Session
DESCRIPTION:Class runs on Tuesdays 9:30 – 4:30 and Wednesdays 9:30 – 2:30. \nClasses are held at our Essex location:  422 A Eastern Blvd\, Essex\, MD 21221 \nPlease call our Towson office at 410-828-6460 to register.
URL:https://absoluteisi.com/event/security-guard-card-12-hour-class-wednesday-session/2027-09-22/
LOCATION:Essex\, 422 A Eastern Blvd\, Essex\, MD\, 21221\, United States
CATEGORIES:Security Guard Card 12 Hour Class
END:VEVENT
BEGIN:VEVENT
DTSTART;TZID=America/New_York:20270923T093000
DTEND;TZID=America/New_York:20270923T173000
DTSTAMP:20260421T082934
CREATED:20250129T225654Z
LAST-MODIFIED:20250130T132327Z
UID:10000923-1821691800-1821720600@absoluteisi.com
SUMMARY:Security Guard License Renewal 8 Hour Class
DESCRIPTION:The Security Guard License Renewal 8 Hour Class runs from 9:30 am – 5:30 pm. \nClasses are held at our Essex location:  422 A Eastern Blvd\, Essex\, MD 21221 \nPlease call our Towson office at 410-828-6460 to register.
URL:https://absoluteisi.com/event/security-guard-license-renewal-8-hour-class/2027-09-23/
LOCATION:Essex\, 422 A Eastern Blvd\, Essex\, MD\, 21221\, United States
END:VEVENT
BEGIN:VEVENT
DTSTART;TZID=America/New_York:20270928T093000
DTEND;TZID=America/New_York:20270928T163000
DTSTAMP:20260421T082934
CREATED:20250129T223727Z
LAST-MODIFIED:20250130T173213Z
UID:10000400-1822123800-1822149000@absoluteisi.com
SUMMARY:Security Guard Card 12 Hour Class Tuesday-Session
DESCRIPTION:Class runs on Tuesdays 9:30 – 4:30 and Wednesdays 9:30 – 2:30. \nClasses are held at our Essex location:  422 A Eastern Blvd\, Essex\, MD 21221 \nPlease call our Towson office at 410-828-6460 to register.
URL:https://absoluteisi.com/event/security-guard-12-hour-class-tuesday-session/2027-09-28/
LOCATION:Essex\, 422 A Eastern Blvd\, Essex\, MD\, 21221\, United States
CATEGORIES:Security Guard Card 12 Hour Class
END:VEVENT
BEGIN:VEVENT
DTSTART;TZID=America/New_York:20270929T093000
DTEND;TZID=America/New_York:20270929T143000
DTSTAMP:20260421T082934
CREATED:20250130T171407Z
LAST-MODIFIED:20250130T172308Z
UID:10002749-1822210200-1822228200@absoluteisi.com
SUMMARY:Security Guard Card 12 Hour Class Wednesday Session
DESCRIPTION:Class runs on Tuesdays 9:30 – 4:30 and Wednesdays 9:30 – 2:30. \nClasses are held at our Essex location:  422 A Eastern Blvd\, Essex\, MD 21221 \nPlease call our Towson office at 410-828-6460 to register.
URL:https://absoluteisi.com/event/security-guard-card-12-hour-class-wednesday-session/2027-09-29/
LOCATION:Essex\, 422 A Eastern Blvd\, Essex\, MD\, 21221\, United States
CATEGORIES:Security Guard Card 12 Hour Class
END:VEVENT
BEGIN:VEVENT
DTSTART;TZID=America/New_York:20270930T093000
DTEND;TZID=America/New_York:20270930T173000
DTSTAMP:20260421T082934
CREATED:20250129T225654Z
LAST-MODIFIED:20250130T132327Z
UID:10000924-1822296600-1822325400@absoluteisi.com
SUMMARY:Security Guard License Renewal 8 Hour Class
DESCRIPTION:The Security Guard License Renewal 8 Hour Class runs from 9:30 am – 5:30 pm. \nClasses are held at our Essex location:  422 A Eastern Blvd\, Essex\, MD 21221 \nPlease call our Towson office at 410-828-6460 to register.
URL:https://absoluteisi.com/event/security-guard-license-renewal-8-hour-class/2027-09-30/
LOCATION:Essex\, 422 A Eastern Blvd\, Essex\, MD\, 21221\, United States
END:VEVENT
BEGIN:VEVENT
DTSTART;TZID=America/New_York:20271005T093000
DTEND;TZID=America/New_York:20271005T163000
DTSTAMP:20260421T082934
CREATED:20250129T223727Z
LAST-MODIFIED:20250130T173213Z
UID:10000401-1822728600-1822753800@absoluteisi.com
SUMMARY:Security Guard Card 12 Hour Class Tuesday-Session
DESCRIPTION:Class runs on Tuesdays 9:30 – 4:30 and Wednesdays 9:30 – 2:30. \nClasses are held at our Essex location:  422 A Eastern Blvd\, Essex\, MD 21221 \nPlease call our Towson office at 410-828-6460 to register.
URL:https://absoluteisi.com/event/security-guard-12-hour-class-tuesday-session/2027-10-05/
LOCATION:Essex\, 422 A Eastern Blvd\, Essex\, MD\, 21221\, United States
CATEGORIES:Security Guard Card 12 Hour Class
END:VEVENT
BEGIN:VEVENT
DTSTART;TZID=America/New_York:20271006T093000
DTEND;TZID=America/New_York:20271006T143000
DTSTAMP:20260421T082934
CREATED:20250130T171407Z
LAST-MODIFIED:20250130T172308Z
UID:10002750-1822815000-1822833000@absoluteisi.com
SUMMARY:Security Guard Card 12 Hour Class Wednesday Session
DESCRIPTION:Class runs on Tuesdays 9:30 – 4:30 and Wednesdays 9:30 – 2:30. \nClasses are held at our Essex location:  422 A Eastern Blvd\, Essex\, MD 21221 \nPlease call our Towson office at 410-828-6460 to register.
URL:https://absoluteisi.com/event/security-guard-card-12-hour-class-wednesday-session/2027-10-06/
LOCATION:Essex\, 422 A Eastern Blvd\, Essex\, MD\, 21221\, United States
CATEGORIES:Security Guard Card 12 Hour Class
END:VEVENT
BEGIN:VEVENT
DTSTART;TZID=America/New_York:20271007T093000
DTEND;TZID=America/New_York:20271007T173000
DTSTAMP:20260421T082934
CREATED:20250129T225654Z
LAST-MODIFIED:20250130T132327Z
UID:10000925-1822901400-1822930200@absoluteisi.com
SUMMARY:Security Guard License Renewal 8 Hour Class
DESCRIPTION:The Security Guard License Renewal 8 Hour Class runs from 9:30 am – 5:30 pm. \nClasses are held at our Essex location:  422 A Eastern Blvd\, Essex\, MD 21221 \nPlease call our Towson office at 410-828-6460 to register.
URL:https://absoluteisi.com/event/security-guard-license-renewal-8-hour-class/2027-10-07/
LOCATION:Essex\, 422 A Eastern Blvd\, Essex\, MD\, 21221\, United States
END:VEVENT
BEGIN:VEVENT
DTSTART;TZID=America/New_York:20271012T093000
DTEND;TZID=America/New_York:20271012T163000
DTSTAMP:20260421T082934
CREATED:20250129T223727Z
LAST-MODIFIED:20250130T173213Z
UID:10000402-1823333400-1823358600@absoluteisi.com
SUMMARY:Security Guard Card 12 Hour Class Tuesday-Session
DESCRIPTION:Class runs on Tuesdays 9:30 – 4:30 and Wednesdays 9:30 – 2:30. \nClasses are held at our Essex location:  422 A Eastern Blvd\, Essex\, MD 21221 \nPlease call our Towson office at 410-828-6460 to register.
URL:https://absoluteisi.com/event/security-guard-12-hour-class-tuesday-session/2027-10-12/
LOCATION:Essex\, 422 A Eastern Blvd\, Essex\, MD\, 21221\, United States
CATEGORIES:Security Guard Card 12 Hour Class
END:VEVENT
BEGIN:VEVENT
DTSTART;TZID=America/New_York:20271013T093000
DTEND;TZID=America/New_York:20271013T143000
DTSTAMP:20260421T082934
CREATED:20250130T171407Z
LAST-MODIFIED:20250130T172308Z
UID:10002751-1823419800-1823437800@absoluteisi.com
SUMMARY:Security Guard Card 12 Hour Class Wednesday Session
DESCRIPTION:Class runs on Tuesdays 9:30 – 4:30 and Wednesdays 9:30 – 2:30. \nClasses are held at our Essex location:  422 A Eastern Blvd\, Essex\, MD 21221 \nPlease call our Towson office at 410-828-6460 to register.
URL:https://absoluteisi.com/event/security-guard-card-12-hour-class-wednesday-session/2027-10-13/
LOCATION:Essex\, 422 A Eastern Blvd\, Essex\, MD\, 21221\, United States
CATEGORIES:Security Guard Card 12 Hour Class
END:VEVENT
BEGIN:VEVENT
DTSTART;TZID=America/New_York:20271014T093000
DTEND;TZID=America/New_York:20271014T173000
DTSTAMP:20260421T082934
CREATED:20250129T225654Z
LAST-MODIFIED:20250130T132327Z
UID:10000926-1823506200-1823535000@absoluteisi.com
SUMMARY:Security Guard License Renewal 8 Hour Class
DESCRIPTION:The Security Guard License Renewal 8 Hour Class runs from 9:30 am – 5:30 pm. \nClasses are held at our Essex location:  422 A Eastern Blvd\, Essex\, MD 21221 \nPlease call our Towson office at 410-828-6460 to register.
URL:https://absoluteisi.com/event/security-guard-license-renewal-8-hour-class/2027-10-14/
LOCATION:Essex\, 422 A Eastern Blvd\, Essex\, MD\, 21221\, United States
END:VEVENT
END:VCALENDAR