BEGIN:VCALENDAR
VERSION:2.0
PRODID:-//Absolute Security - ECPv6.15.20//NONSGML v1.0//EN
CALSCALE:GREGORIAN
METHOD:PUBLISH
X-ORIGINAL-URL:https://absoluteisi.com
X-WR-CALDESC:Events for Absolute Security
REFRESH-INTERVAL;VALUE=DURATION:PT1H
X-Robots-Tag:noindex
X-PUBLISHED-TTL:PT1H
BEGIN:VTIMEZONE
TZID:America/New_York
BEGIN:DAYLIGHT
TZOFFSETFROM:-0500
TZOFFSETTO:-0400
TZNAME:EDT
DTSTART:20250309T070000
END:DAYLIGHT
BEGIN:STANDARD
TZOFFSETFROM:-0400
TZOFFSETTO:-0500
TZNAME:EST
DTSTART:20251102T060000
END:STANDARD
BEGIN:DAYLIGHT
TZOFFSETFROM:-0500
TZOFFSETTO:-0400
TZNAME:EDT
DTSTART:20260308T070000
END:DAYLIGHT
BEGIN:STANDARD
TZOFFSETFROM:-0400
TZOFFSETTO:-0500
TZNAME:EST
DTSTART:20261101T060000
END:STANDARD
BEGIN:DAYLIGHT
TZOFFSETFROM:-0500
TZOFFSETTO:-0400
TZNAME:EDT
DTSTART:20270314T070000
END:DAYLIGHT
BEGIN:STANDARD
TZOFFSETFROM:-0400
TZOFFSETTO:-0500
TZNAME:EST
DTSTART:20271107T060000
END:STANDARD
BEGIN:DAYLIGHT
TZOFFSETFROM:-0500
TZOFFSETTO:-0400
TZNAME:EDT
DTSTART:20280312T070000
END:DAYLIGHT
BEGIN:STANDARD
TZOFFSETFROM:-0400
TZOFFSETTO:-0500
TZNAME:EST
DTSTART:20281105T060000
END:STANDARD
END:VTIMEZONE
BEGIN:VEVENT
DTSTART;TZID=America/New_York:20261229T093000
DTEND;TZID=America/New_York:20261229T163000
DTSTAMP:20260420T185043
CREATED:20250129T223727Z
LAST-MODIFIED:20250130T173213Z
UID:10000361-1798536600-1798561800@absoluteisi.com
SUMMARY:Security Guard Card 12 Hour Class Tuesday-Session
DESCRIPTION:Class runs on Tuesdays 9:30 – 4:30 and Wednesdays 9:30 – 2:30. \nClasses are held at our Essex location:  422 A Eastern Blvd\, Essex\, MD 21221 \nPlease call our Towson office at 410-828-6460 to register.
URL:https://absoluteisi.com/event/security-guard-12-hour-class-tuesday-session/2026-12-29/
LOCATION:Essex\, 422 A Eastern Blvd\, Essex\, MD\, 21221\, United States
CATEGORIES:Security Guard Card 12 Hour Class
END:VEVENT
BEGIN:VEVENT
DTSTART;TZID=America/New_York:20261230T093000
DTEND;TZID=America/New_York:20261230T143000
DTSTAMP:20260420T185043
CREATED:20250130T171407Z
LAST-MODIFIED:20250130T172308Z
UID:10002710-1798623000-1798641000@absoluteisi.com
SUMMARY:Security Guard Card 12 Hour Class Wednesday Session
DESCRIPTION:Class runs on Tuesdays 9:30 – 4:30 and Wednesdays 9:30 – 2:30. \nClasses are held at our Essex location:  422 A Eastern Blvd\, Essex\, MD 21221 \nPlease call our Towson office at 410-828-6460 to register.
URL:https://absoluteisi.com/event/security-guard-card-12-hour-class-wednesday-session/2026-12-30/
LOCATION:Essex\, 422 A Eastern Blvd\, Essex\, MD\, 21221\, United States
CATEGORIES:Security Guard Card 12 Hour Class
END:VEVENT
BEGIN:VEVENT
DTSTART;TZID=America/New_York:20261231T093000
DTEND;TZID=America/New_York:20261231T173000
DTSTAMP:20260420T185043
CREATED:20250129T225654Z
LAST-MODIFIED:20250130T132327Z
UID:10000885-1798709400-1798738200@absoluteisi.com
SUMMARY:Security Guard License Renewal 8 Hour Class
DESCRIPTION:The Security Guard License Renewal 8 Hour Class runs from 9:30 am – 5:30 pm. \nClasses are held at our Essex location:  422 A Eastern Blvd\, Essex\, MD 21221 \nPlease call our Towson office at 410-828-6460 to register.
URL:https://absoluteisi.com/event/security-guard-license-renewal-8-hour-class/2026-12-31/
LOCATION:Essex\, 422 A Eastern Blvd\, Essex\, MD\, 21221\, United States
END:VEVENT
BEGIN:VEVENT
DTSTART;TZID=America/New_York:20270105T093000
DTEND;TZID=America/New_York:20270105T163000
DTSTAMP:20260420T185043
CREATED:20250129T223727Z
LAST-MODIFIED:20250130T173213Z
UID:10000362-1799141400-1799166600@absoluteisi.com
SUMMARY:Security Guard Card 12 Hour Class Tuesday-Session
DESCRIPTION:Class runs on Tuesdays 9:30 – 4:30 and Wednesdays 9:30 – 2:30. \nClasses are held at our Essex location:  422 A Eastern Blvd\, Essex\, MD 21221 \nPlease call our Towson office at 410-828-6460 to register.
URL:https://absoluteisi.com/event/security-guard-12-hour-class-tuesday-session/2027-01-05/
LOCATION:Essex\, 422 A Eastern Blvd\, Essex\, MD\, 21221\, United States
CATEGORIES:Security Guard Card 12 Hour Class
END:VEVENT
BEGIN:VEVENT
DTSTART;TZID=America/New_York:20270106T093000
DTEND;TZID=America/New_York:20270106T143000
DTSTAMP:20260420T185043
CREATED:20250130T171407Z
LAST-MODIFIED:20250130T172308Z
UID:10002711-1799227800-1799245800@absoluteisi.com
SUMMARY:Security Guard Card 12 Hour Class Wednesday Session
DESCRIPTION:Class runs on Tuesdays 9:30 – 4:30 and Wednesdays 9:30 – 2:30. \nClasses are held at our Essex location:  422 A Eastern Blvd\, Essex\, MD 21221 \nPlease call our Towson office at 410-828-6460 to register.
URL:https://absoluteisi.com/event/security-guard-card-12-hour-class-wednesday-session/2027-01-06/
LOCATION:Essex\, 422 A Eastern Blvd\, Essex\, MD\, 21221\, United States
CATEGORIES:Security Guard Card 12 Hour Class
END:VEVENT
BEGIN:VEVENT
DTSTART;TZID=America/New_York:20270107T093000
DTEND;TZID=America/New_York:20270107T173000
DTSTAMP:20260420T185043
CREATED:20250129T225654Z
LAST-MODIFIED:20250130T132327Z
UID:10000886-1799314200-1799343000@absoluteisi.com
SUMMARY:Security Guard License Renewal 8 Hour Class
DESCRIPTION:The Security Guard License Renewal 8 Hour Class runs from 9:30 am – 5:30 pm. \nClasses are held at our Essex location:  422 A Eastern Blvd\, Essex\, MD 21221 \nPlease call our Towson office at 410-828-6460 to register.
URL:https://absoluteisi.com/event/security-guard-license-renewal-8-hour-class/2027-01-07/
LOCATION:Essex\, 422 A Eastern Blvd\, Essex\, MD\, 21221\, United States
END:VEVENT
BEGIN:VEVENT
DTSTART;TZID=America/New_York:20270112T093000
DTEND;TZID=America/New_York:20270112T163000
DTSTAMP:20260420T185043
CREATED:20250129T223727Z
LAST-MODIFIED:20250130T173213Z
UID:10000363-1799746200-1799771400@absoluteisi.com
SUMMARY:Security Guard Card 12 Hour Class Tuesday-Session
DESCRIPTION:Class runs on Tuesdays 9:30 – 4:30 and Wednesdays 9:30 – 2:30. \nClasses are held at our Essex location:  422 A Eastern Blvd\, Essex\, MD 21221 \nPlease call our Towson office at 410-828-6460 to register.
URL:https://absoluteisi.com/event/security-guard-12-hour-class-tuesday-session/2027-01-12/
LOCATION:Essex\, 422 A Eastern Blvd\, Essex\, MD\, 21221\, United States
CATEGORIES:Security Guard Card 12 Hour Class
END:VEVENT
BEGIN:VEVENT
DTSTART;TZID=America/New_York:20270113T093000
DTEND;TZID=America/New_York:20270113T143000
DTSTAMP:20260420T185043
CREATED:20250130T171407Z
LAST-MODIFIED:20250130T172308Z
UID:10002712-1799832600-1799850600@absoluteisi.com
SUMMARY:Security Guard Card 12 Hour Class Wednesday Session
DESCRIPTION:Class runs on Tuesdays 9:30 – 4:30 and Wednesdays 9:30 – 2:30. \nClasses are held at our Essex location:  422 A Eastern Blvd\, Essex\, MD 21221 \nPlease call our Towson office at 410-828-6460 to register.
URL:https://absoluteisi.com/event/security-guard-card-12-hour-class-wednesday-session/2027-01-13/
LOCATION:Essex\, 422 A Eastern Blvd\, Essex\, MD\, 21221\, United States
CATEGORIES:Security Guard Card 12 Hour Class
END:VEVENT
BEGIN:VEVENT
DTSTART;TZID=America/New_York:20270114T093000
DTEND;TZID=America/New_York:20270114T173000
DTSTAMP:20260420T185043
CREATED:20250129T225654Z
LAST-MODIFIED:20250130T132327Z
UID:10000887-1799919000-1799947800@absoluteisi.com
SUMMARY:Security Guard License Renewal 8 Hour Class
DESCRIPTION:The Security Guard License Renewal 8 Hour Class runs from 9:30 am – 5:30 pm. \nClasses are held at our Essex location:  422 A Eastern Blvd\, Essex\, MD 21221 \nPlease call our Towson office at 410-828-6460 to register.
URL:https://absoluteisi.com/event/security-guard-license-renewal-8-hour-class/2027-01-14/
LOCATION:Essex\, 422 A Eastern Blvd\, Essex\, MD\, 21221\, United States
END:VEVENT
BEGIN:VEVENT
DTSTART;TZID=America/New_York:20270119T093000
DTEND;TZID=America/New_York:20270119T163000
DTSTAMP:20260420T185043
CREATED:20250129T223727Z
LAST-MODIFIED:20250130T173213Z
UID:10000364-1800351000-1800376200@absoluteisi.com
SUMMARY:Security Guard Card 12 Hour Class Tuesday-Session
DESCRIPTION:Class runs on Tuesdays 9:30 – 4:30 and Wednesdays 9:30 – 2:30. \nClasses are held at our Essex location:  422 A Eastern Blvd\, Essex\, MD 21221 \nPlease call our Towson office at 410-828-6460 to register.
URL:https://absoluteisi.com/event/security-guard-12-hour-class-tuesday-session/2027-01-19/
LOCATION:Essex\, 422 A Eastern Blvd\, Essex\, MD\, 21221\, United States
CATEGORIES:Security Guard Card 12 Hour Class
END:VEVENT
BEGIN:VEVENT
DTSTART;TZID=America/New_York:20270120T093000
DTEND;TZID=America/New_York:20270120T143000
DTSTAMP:20260420T185043
CREATED:20250130T171407Z
LAST-MODIFIED:20250130T172308Z
UID:10002713-1800437400-1800455400@absoluteisi.com
SUMMARY:Security Guard Card 12 Hour Class Wednesday Session
DESCRIPTION:Class runs on Tuesdays 9:30 – 4:30 and Wednesdays 9:30 – 2:30. \nClasses are held at our Essex location:  422 A Eastern Blvd\, Essex\, MD 21221 \nPlease call our Towson office at 410-828-6460 to register.
URL:https://absoluteisi.com/event/security-guard-card-12-hour-class-wednesday-session/2027-01-20/
LOCATION:Essex\, 422 A Eastern Blvd\, Essex\, MD\, 21221\, United States
CATEGORIES:Security Guard Card 12 Hour Class
END:VEVENT
BEGIN:VEVENT
DTSTART;TZID=America/New_York:20270121T093000
DTEND;TZID=America/New_York:20270121T173000
DTSTAMP:20260420T185043
CREATED:20250129T225654Z
LAST-MODIFIED:20250130T132327Z
UID:10000888-1800523800-1800552600@absoluteisi.com
SUMMARY:Security Guard License Renewal 8 Hour Class
DESCRIPTION:The Security Guard License Renewal 8 Hour Class runs from 9:30 am – 5:30 pm. \nClasses are held at our Essex location:  422 A Eastern Blvd\, Essex\, MD 21221 \nPlease call our Towson office at 410-828-6460 to register.
URL:https://absoluteisi.com/event/security-guard-license-renewal-8-hour-class/2027-01-21/
LOCATION:Essex\, 422 A Eastern Blvd\, Essex\, MD\, 21221\, United States
END:VEVENT
BEGIN:VEVENT
DTSTART;TZID=America/New_York:20270126T093000
DTEND;TZID=America/New_York:20270126T163000
DTSTAMP:20260420T185043
CREATED:20250129T223727Z
LAST-MODIFIED:20250130T173213Z
UID:10000365-1800955800-1800981000@absoluteisi.com
SUMMARY:Security Guard Card 12 Hour Class Tuesday-Session
DESCRIPTION:Class runs on Tuesdays 9:30 – 4:30 and Wednesdays 9:30 – 2:30. \nClasses are held at our Essex location:  422 A Eastern Blvd\, Essex\, MD 21221 \nPlease call our Towson office at 410-828-6460 to register.
URL:https://absoluteisi.com/event/security-guard-12-hour-class-tuesday-session/2027-01-26/
LOCATION:Essex\, 422 A Eastern Blvd\, Essex\, MD\, 21221\, United States
CATEGORIES:Security Guard Card 12 Hour Class
END:VEVENT
BEGIN:VEVENT
DTSTART;TZID=America/New_York:20270127T093000
DTEND;TZID=America/New_York:20270127T143000
DTSTAMP:20260420T185043
CREATED:20250130T171407Z
LAST-MODIFIED:20250130T172308Z
UID:10002714-1801042200-1801060200@absoluteisi.com
SUMMARY:Security Guard Card 12 Hour Class Wednesday Session
DESCRIPTION:Class runs on Tuesdays 9:30 – 4:30 and Wednesdays 9:30 – 2:30. \nClasses are held at our Essex location:  422 A Eastern Blvd\, Essex\, MD 21221 \nPlease call our Towson office at 410-828-6460 to register.
URL:https://absoluteisi.com/event/security-guard-card-12-hour-class-wednesday-session/2027-01-27/
LOCATION:Essex\, 422 A Eastern Blvd\, Essex\, MD\, 21221\, United States
CATEGORIES:Security Guard Card 12 Hour Class
END:VEVENT
BEGIN:VEVENT
DTSTART;TZID=America/New_York:20270128T093000
DTEND;TZID=America/New_York:20270128T173000
DTSTAMP:20260420T185043
CREATED:20250129T225654Z
LAST-MODIFIED:20250130T132327Z
UID:10000889-1801128600-1801157400@absoluteisi.com
SUMMARY:Security Guard License Renewal 8 Hour Class
DESCRIPTION:The Security Guard License Renewal 8 Hour Class runs from 9:30 am – 5:30 pm. \nClasses are held at our Essex location:  422 A Eastern Blvd\, Essex\, MD 21221 \nPlease call our Towson office at 410-828-6460 to register.
URL:https://absoluteisi.com/event/security-guard-license-renewal-8-hour-class/2027-01-28/
LOCATION:Essex\, 422 A Eastern Blvd\, Essex\, MD\, 21221\, United States
END:VEVENT
BEGIN:VEVENT
DTSTART;TZID=America/New_York:20270202T093000
DTEND;TZID=America/New_York:20270202T163000
DTSTAMP:20260420T185043
CREATED:20250129T223727Z
LAST-MODIFIED:20250130T173213Z
UID:10000366-1801560600-1801585800@absoluteisi.com
SUMMARY:Security Guard Card 12 Hour Class Tuesday-Session
DESCRIPTION:Class runs on Tuesdays 9:30 – 4:30 and Wednesdays 9:30 – 2:30. \nClasses are held at our Essex location:  422 A Eastern Blvd\, Essex\, MD 21221 \nPlease call our Towson office at 410-828-6460 to register.
URL:https://absoluteisi.com/event/security-guard-12-hour-class-tuesday-session/2027-02-02/
LOCATION:Essex\, 422 A Eastern Blvd\, Essex\, MD\, 21221\, United States
CATEGORIES:Security Guard Card 12 Hour Class
END:VEVENT
BEGIN:VEVENT
DTSTART;TZID=America/New_York:20270203T093000
DTEND;TZID=America/New_York:20270203T143000
DTSTAMP:20260420T185043
CREATED:20250130T171407Z
LAST-MODIFIED:20250130T172308Z
UID:10002715-1801647000-1801665000@absoluteisi.com
SUMMARY:Security Guard Card 12 Hour Class Wednesday Session
DESCRIPTION:Class runs on Tuesdays 9:30 – 4:30 and Wednesdays 9:30 – 2:30. \nClasses are held at our Essex location:  422 A Eastern Blvd\, Essex\, MD 21221 \nPlease call our Towson office at 410-828-6460 to register.
URL:https://absoluteisi.com/event/security-guard-card-12-hour-class-wednesday-session/2027-02-03/
LOCATION:Essex\, 422 A Eastern Blvd\, Essex\, MD\, 21221\, United States
CATEGORIES:Security Guard Card 12 Hour Class
END:VEVENT
BEGIN:VEVENT
DTSTART;TZID=America/New_York:20270204T093000
DTEND;TZID=America/New_York:20270204T173000
DTSTAMP:20260420T185043
CREATED:20250129T225654Z
LAST-MODIFIED:20250130T132327Z
UID:10000890-1801733400-1801762200@absoluteisi.com
SUMMARY:Security Guard License Renewal 8 Hour Class
DESCRIPTION:The Security Guard License Renewal 8 Hour Class runs from 9:30 am – 5:30 pm. \nClasses are held at our Essex location:  422 A Eastern Blvd\, Essex\, MD 21221 \nPlease call our Towson office at 410-828-6460 to register.
URL:https://absoluteisi.com/event/security-guard-license-renewal-8-hour-class/2027-02-04/
LOCATION:Essex\, 422 A Eastern Blvd\, Essex\, MD\, 21221\, United States
END:VEVENT
BEGIN:VEVENT
DTSTART;TZID=America/New_York:20270209T093000
DTEND;TZID=America/New_York:20270209T163000
DTSTAMP:20260420T185043
CREATED:20250129T223727Z
LAST-MODIFIED:20250130T173213Z
UID:10000367-1802165400-1802190600@absoluteisi.com
SUMMARY:Security Guard Card 12 Hour Class Tuesday-Session
DESCRIPTION:Class runs on Tuesdays 9:30 – 4:30 and Wednesdays 9:30 – 2:30. \nClasses are held at our Essex location:  422 A Eastern Blvd\, Essex\, MD 21221 \nPlease call our Towson office at 410-828-6460 to register.
URL:https://absoluteisi.com/event/security-guard-12-hour-class-tuesday-session/2027-02-09/
LOCATION:Essex\, 422 A Eastern Blvd\, Essex\, MD\, 21221\, United States
CATEGORIES:Security Guard Card 12 Hour Class
END:VEVENT
BEGIN:VEVENT
DTSTART;TZID=America/New_York:20270210T093000
DTEND;TZID=America/New_York:20270210T143000
DTSTAMP:20260420T185043
CREATED:20250130T171407Z
LAST-MODIFIED:20250130T172308Z
UID:10002716-1802251800-1802269800@absoluteisi.com
SUMMARY:Security Guard Card 12 Hour Class Wednesday Session
DESCRIPTION:Class runs on Tuesdays 9:30 – 4:30 and Wednesdays 9:30 – 2:30. \nClasses are held at our Essex location:  422 A Eastern Blvd\, Essex\, MD 21221 \nPlease call our Towson office at 410-828-6460 to register.
URL:https://absoluteisi.com/event/security-guard-card-12-hour-class-wednesday-session/2027-02-10/
LOCATION:Essex\, 422 A Eastern Blvd\, Essex\, MD\, 21221\, United States
CATEGORIES:Security Guard Card 12 Hour Class
END:VEVENT
BEGIN:VEVENT
DTSTART;TZID=America/New_York:20270211T093000
DTEND;TZID=America/New_York:20270211T173000
DTSTAMP:20260420T185044
CREATED:20250129T225654Z
LAST-MODIFIED:20250130T132327Z
UID:10000891-1802338200-1802367000@absoluteisi.com
SUMMARY:Security Guard License Renewal 8 Hour Class
DESCRIPTION:The Security Guard License Renewal 8 Hour Class runs from 9:30 am – 5:30 pm. \nClasses are held at our Essex location:  422 A Eastern Blvd\, Essex\, MD 21221 \nPlease call our Towson office at 410-828-6460 to register.
URL:https://absoluteisi.com/event/security-guard-license-renewal-8-hour-class/2027-02-11/
LOCATION:Essex\, 422 A Eastern Blvd\, Essex\, MD\, 21221\, United States
END:VEVENT
BEGIN:VEVENT
DTSTART;TZID=America/New_York:20270216T093000
DTEND;TZID=America/New_York:20270216T163000
DTSTAMP:20260420T185044
CREATED:20250129T223727Z
LAST-MODIFIED:20250130T173213Z
UID:10000368-1802770200-1802795400@absoluteisi.com
SUMMARY:Security Guard Card 12 Hour Class Tuesday-Session
DESCRIPTION:Class runs on Tuesdays 9:30 – 4:30 and Wednesdays 9:30 – 2:30. \nClasses are held at our Essex location:  422 A Eastern Blvd\, Essex\, MD 21221 \nPlease call our Towson office at 410-828-6460 to register.
URL:https://absoluteisi.com/event/security-guard-12-hour-class-tuesday-session/2027-02-16/
LOCATION:Essex\, 422 A Eastern Blvd\, Essex\, MD\, 21221\, United States
CATEGORIES:Security Guard Card 12 Hour Class
END:VEVENT
BEGIN:VEVENT
DTSTART;TZID=America/New_York:20270217T093000
DTEND;TZID=America/New_York:20270217T143000
DTSTAMP:20260420T185044
CREATED:20250130T171407Z
LAST-MODIFIED:20250130T172308Z
UID:10002717-1802856600-1802874600@absoluteisi.com
SUMMARY:Security Guard Card 12 Hour Class Wednesday Session
DESCRIPTION:Class runs on Tuesdays 9:30 – 4:30 and Wednesdays 9:30 – 2:30. \nClasses are held at our Essex location:  422 A Eastern Blvd\, Essex\, MD 21221 \nPlease call our Towson office at 410-828-6460 to register.
URL:https://absoluteisi.com/event/security-guard-card-12-hour-class-wednesday-session/2027-02-17/
LOCATION:Essex\, 422 A Eastern Blvd\, Essex\, MD\, 21221\, United States
CATEGORIES:Security Guard Card 12 Hour Class
END:VEVENT
BEGIN:VEVENT
DTSTART;TZID=America/New_York:20270218T093000
DTEND;TZID=America/New_York:20270218T173000
DTSTAMP:20260420T185044
CREATED:20250129T225654Z
LAST-MODIFIED:20250130T132327Z
UID:10000892-1802943000-1802971800@absoluteisi.com
SUMMARY:Security Guard License Renewal 8 Hour Class
DESCRIPTION:The Security Guard License Renewal 8 Hour Class runs from 9:30 am – 5:30 pm. \nClasses are held at our Essex location:  422 A Eastern Blvd\, Essex\, MD 21221 \nPlease call our Towson office at 410-828-6460 to register.
URL:https://absoluteisi.com/event/security-guard-license-renewal-8-hour-class/2027-02-18/
LOCATION:Essex\, 422 A Eastern Blvd\, Essex\, MD\, 21221\, United States
END:VEVENT
BEGIN:VEVENT
DTSTART;TZID=America/New_York:20270223T093000
DTEND;TZID=America/New_York:20270223T163000
DTSTAMP:20260420T185044
CREATED:20250129T223727Z
LAST-MODIFIED:20250130T173213Z
UID:10000369-1803375000-1803400200@absoluteisi.com
SUMMARY:Security Guard Card 12 Hour Class Tuesday-Session
DESCRIPTION:Class runs on Tuesdays 9:30 – 4:30 and Wednesdays 9:30 – 2:30. \nClasses are held at our Essex location:  422 A Eastern Blvd\, Essex\, MD 21221 \nPlease call our Towson office at 410-828-6460 to register.
URL:https://absoluteisi.com/event/security-guard-12-hour-class-tuesday-session/2027-02-23/
LOCATION:Essex\, 422 A Eastern Blvd\, Essex\, MD\, 21221\, United States
CATEGORIES:Security Guard Card 12 Hour Class
END:VEVENT
BEGIN:VEVENT
DTSTART;TZID=America/New_York:20270224T093000
DTEND;TZID=America/New_York:20270224T143000
DTSTAMP:20260420T185044
CREATED:20250130T171407Z
LAST-MODIFIED:20250130T172308Z
UID:10002718-1803461400-1803479400@absoluteisi.com
SUMMARY:Security Guard Card 12 Hour Class Wednesday Session
DESCRIPTION:Class runs on Tuesdays 9:30 – 4:30 and Wednesdays 9:30 – 2:30. \nClasses are held at our Essex location:  422 A Eastern Blvd\, Essex\, MD 21221 \nPlease call our Towson office at 410-828-6460 to register.
URL:https://absoluteisi.com/event/security-guard-card-12-hour-class-wednesday-session/2027-02-24/
LOCATION:Essex\, 422 A Eastern Blvd\, Essex\, MD\, 21221\, United States
CATEGORIES:Security Guard Card 12 Hour Class
END:VEVENT
BEGIN:VEVENT
DTSTART;TZID=America/New_York:20270225T093000
DTEND;TZID=America/New_York:20270225T173000
DTSTAMP:20260420T185044
CREATED:20250129T225654Z
LAST-MODIFIED:20250130T132327Z
UID:10000893-1803547800-1803576600@absoluteisi.com
SUMMARY:Security Guard License Renewal 8 Hour Class
DESCRIPTION:The Security Guard License Renewal 8 Hour Class runs from 9:30 am – 5:30 pm. \nClasses are held at our Essex location:  422 A Eastern Blvd\, Essex\, MD 21221 \nPlease call our Towson office at 410-828-6460 to register.
URL:https://absoluteisi.com/event/security-guard-license-renewal-8-hour-class/2027-02-25/
LOCATION:Essex\, 422 A Eastern Blvd\, Essex\, MD\, 21221\, United States
END:VEVENT
BEGIN:VEVENT
DTSTART;TZID=America/New_York:20270302T093000
DTEND;TZID=America/New_York:20270302T163000
DTSTAMP:20260420T185044
CREATED:20250129T223727Z
LAST-MODIFIED:20250130T173213Z
UID:10000370-1803979800-1804005000@absoluteisi.com
SUMMARY:Security Guard Card 12 Hour Class Tuesday-Session
DESCRIPTION:Class runs on Tuesdays 9:30 – 4:30 and Wednesdays 9:30 – 2:30. \nClasses are held at our Essex location:  422 A Eastern Blvd\, Essex\, MD 21221 \nPlease call our Towson office at 410-828-6460 to register.
URL:https://absoluteisi.com/event/security-guard-12-hour-class-tuesday-session/2027-03-02/
LOCATION:Essex\, 422 A Eastern Blvd\, Essex\, MD\, 21221\, United States
CATEGORIES:Security Guard Card 12 Hour Class
END:VEVENT
BEGIN:VEVENT
DTSTART;TZID=America/New_York:20270303T093000
DTEND;TZID=America/New_York:20270303T143000
DTSTAMP:20260420T185044
CREATED:20250130T171407Z
LAST-MODIFIED:20250130T172308Z
UID:10002719-1804066200-1804084200@absoluteisi.com
SUMMARY:Security Guard Card 12 Hour Class Wednesday Session
DESCRIPTION:Class runs on Tuesdays 9:30 – 4:30 and Wednesdays 9:30 – 2:30. \nClasses are held at our Essex location:  422 A Eastern Blvd\, Essex\, MD 21221 \nPlease call our Towson office at 410-828-6460 to register.
URL:https://absoluteisi.com/event/security-guard-card-12-hour-class-wednesday-session/2027-03-03/
LOCATION:Essex\, 422 A Eastern Blvd\, Essex\, MD\, 21221\, United States
CATEGORIES:Security Guard Card 12 Hour Class
END:VEVENT
BEGIN:VEVENT
DTSTART;TZID=America/New_York:20270304T093000
DTEND;TZID=America/New_York:20270304T173000
DTSTAMP:20260420T185044
CREATED:20250129T225654Z
LAST-MODIFIED:20250130T132327Z
UID:10000894-1804152600-1804181400@absoluteisi.com
SUMMARY:Security Guard License Renewal 8 Hour Class
DESCRIPTION:The Security Guard License Renewal 8 Hour Class runs from 9:30 am – 5:30 pm. \nClasses are held at our Essex location:  422 A Eastern Blvd\, Essex\, MD 21221 \nPlease call our Towson office at 410-828-6460 to register.
URL:https://absoluteisi.com/event/security-guard-license-renewal-8-hour-class/2027-03-04/
LOCATION:Essex\, 422 A Eastern Blvd\, Essex\, MD\, 21221\, United States
END:VEVENT
END:VCALENDAR